FILENAME: O4511253.SES.789251.tif
QUADRANGLE_NAME: CHRISTENSEN RANCH
QUADRANT: SE
WEST_LONGITUDE: -112 26 15.00000
EAST_LONGITUDE: -112 22 30.00000
NORTH_LATITUDE: 45 11 15.00000
SOUTH_LATITUDE: 45 7 30.00000
PRODUCTION_DATE: 1997 11 13
RASTER_ORDER: LEFT_RIGHT/TOP_BOTTOM
BAND_ORGANIZATION: SINGLE FILE
BAND_CONTENT: BLACK&WHITE
BAND_CONTENT: UNDEFINED
BAND_CONTENT: UNDEFINED
BITS_PER_PIXEL: 8
SAMPLES_AND_LINES: 5700 7636
HORIZONTAL_DATUM: NAD83
HORIZONTAL_COORDINATE_SYSTEM: UTM
COORDINATE_ZONE: 12
HORIZONTAL_UNITS: METERS
HORIZONTAL_RESOLUTION: 1.00000
SECONDARY_HORIZONTAL_DATUM: NAD27
XY_ORIGIN: 386583.99500 5005084.19500
SECONDARY_XY_ORIGIN: 386646.86700 5004874.53100
NATION: US
STATE: MT
NW_QUAD_CORNER_XY: 387073.19900 5004784.69500
NE_QUAD_CORNER_XY: 391983.05500 5004699.18900
SE_QUAD_CORNERY_XY: 391864.89100 4997756.04800
SW_QUAD_CORNER_XY: 386949.66100 4997841.55500
SECONDARY_NW_QUAD_XY: 387069.85200 5004567.37100
SECONDARY_NE_QUAD_XY: 391979.85400 5004481.86200
SECONDARY_SE_QUAD_XY: 391861.69000 4997538.77500
SECONDARY_SW_QUAD_XY: 386946.31500 4997624.28400
RMSE_XY: 2.30000
IMAGE_SOURCE: BLACK AND WHITE FILM
SOURCE_IMAGE_ID: NAPP 8382 248
SOURCE_IMAGE_DATE: 1995 8 1
SOURCE_DEM_DATE: 1997 11 13
AGENCY: WESTERN MAPPING CENTER (WMC)
PRODUCER: NIES MAPPING GROUP
PRODUCTION_SYSTEM: INTERGRAPH- ISPM,ISIR
COMPRESSION: UNDEFINED
STANDARD_VERSION: 1996 12
METADATA_DATE: 1998 2 10
DATA_FILE_SIZE: 43530900
BYTE_COUNT: 5700
