FILENAME: O4511253.NES.789249.tif
QUADRANGLE_NAME: CHRISTENSEN RANCH
QUADRANT: NE
WEST_LONGITUDE: -112 26 15.00000
EAST_LONGITUDE: -112 22 30.00000
NORTH_LATITUDE: 45 15 0.00000
SOUTH_LATITUDE: 45 11 15.00000
PRODUCTION_DATE: 1997 11 13
RASTER_ORDER: LEFT_RIGHT/TOP_BOTTOM
BAND_ORGANIZATION: SINGLE FILE
BAND_CONTENT: BLACK&WHITE
BAND_CONTENT: UNDEFINED
BAND_CONTENT: UNDEFINED
BITS_PER_PIXEL: 8
SAMPLES_AND_LINES: 5694 7636
HORIZONTAL_DATUM: NAD83
HORIZONTAL_COORDINATE_SYSTEM: UTM
COORDINATE_ZONE: 12
HORIZONTAL_UNITS: METERS
HORIZONTAL_RESOLUTION: 1.00000
SECONDARY_HORIZONTAL_DATUM: NAD27
XY_ORIGIN: 386707.50200 5012027.40600
SECONDARY_XY_ORIGIN: 386770.39800 5011817.57400
NATION: US
STATE: MT
NW_QUAD_CORNER_XY: 387196.87200 5011727.90600
NE_QUAD_CORNER_XY: 392101.34800 5011642.40100
SE_QUAD_CORNERY_XY: 391983.05500 5004699.18900
SW_QUAD_CORNER_XY: 387073.19900 5004784.69500
SECONDARY_NW_QUAD_XY: 387193.52400 5011510.53000
SECONDARY_NE_QUAD_XY: 392098.14600 5011425.02200
SECONDARY_SE_QUAD_XY: 391979.85400 5004481.86200
SECONDARY_SW_QUAD_XY: 387069.85200 5004567.37100
RMSE_XY: 1.60000
IMAGE_SOURCE: BLACK AND WHITE FILM
SOURCE_IMAGE_ID: NAPP 8382 250
SOURCE_IMAGE_DATE: 1995 8 1
SOURCE_DEM_DATE: 1997 11 13
AGENCY: WESTERN MAPPING CENTER (WMC)
PRODUCER: NIES MAPPING GROUP
PRODUCTION_SYSTEM: INTERGRAPH- ISPM,ISIR
COMPRESSION: UNDEFINED
STANDARD_VERSION: 1996 12
METADATA_DATE: 1998 2 10
DATA_FILE_SIZE: 43485078
BYTE_COUNT: 5694
