FILENAME: O4511255.SWS.789927.tif
QUADRANGLE_NAME: METZEL RANCH
QUADRANT: SW
WEST_LONGITUDE: -112 15 0.00000
EAST_LONGITUDE: -112 11 15.00000
NORTH_LATITUDE: 45 11 15.00000
SOUTH_LATITUDE: 45 7 30.00000
PRODUCTION_DATE: 1997 12 15
RASTER_ORDER: LEFT_RIGHT/TOP_BOTTOM
BAND_ORGANIZATION: SINGLE FILE
BAND_CONTENT: BLACK&WHITE
BAND_CONTENT: UNDEFINED
BAND_CONTENT: UNDEFINED
BITS_PER_PIXEL: 8
SAMPLES_AND_LINES: 5680 7624
HORIZONTAL_DATUM: NAD83
HORIZONTAL_COORDINATE_SYSTEM: UTM
COORDINATE_ZONE: 12
HORIZONTAL_UNITS: METERS
HORIZONTAL_RESOLUTION: 1.00000
SECONDARY_HORIZONTAL_DATUM: NAD27
XY_ORIGIN: 401332.22900 5004838.29600
SECONDARY_XY_ORIGIN: 401394.38000 5004628.70000
NATION: US
STATE: MT
NW_QUAD_CORNER_XY: 401802.76900 5004539.58100
NE_QUAD_CORNER_XY: 406712.62700 5004465.47900
SE_QUAD_CORNERY_XY: 406610.58100 4997522.33600
SW_QUAD_CORNER_XY: 401695.35100 4997596.43900
SECONDARY_NW_QUAD_XY: 401799.85900 5004322.25000
SECONDARY_NE_QUAD_XY: 406709.86200 5004248.14600
SECONDARY_SE_QUAD_XY: 406607.81700 4997305.05600
SECONDARY_SW_QUAD_XY: 401692.44100 4997379.16100
RMSE_XY: 2.70000
IMAGE_SOURCE: BLACK AND WHITE FILM
SOURCE_IMAGE_ID: NAPP 9484 174
SOURCE_IMAGE_DATE: 1995 8 14
SOURCE_IMAGE_ID: NAPP 9484 9484
SOURCE_IMAGE_DATE: 1995 8 14
SOURCE_IMAGE_ID: NAPP 9484 172
SOURCE_IMAGE_DATE: 1995 8 14
SOURCE_DEM_DATE: 1997 12 15
AGENCY: WESTERN MAPPING CENTER (WMC)
PRODUCER: NIES MAPPING GROUP
PRODUCTION_SYSTEM: INTERGRAPH- ISPM,ISIR
COMPRESSION: UNDEFINED
STANDARD_VERSION: 1996 12
METADATA_DATE: 1998 2 5
DATA_FILE_SIZE: 43310000
BYTE_COUNT: 5680
