FILENAME: O4511256.SES.789279.tif
QUADRANGLE_NAME: RUBY DAM
QUADRANT: SE
WEST_LONGITUDE: -112 3 45.00000
EAST_LONGITUDE: -112 0 0.00000
NORTH_LATITUDE: 45 11 15.00000
SOUTH_LATITUDE: 45 7 30.00000
PRODUCTION_DATE: 1997 11 20
RASTER_ORDER: LEFT_RIGHT/TOP_BOTTOM
BAND_ORGANIZATION: SINGLE FILE
BAND_CONTENT: BLACK&WHITE
BAND_CONTENT: UNDEFINED
BAND_CONTENT: UNDEFINED
BITS_PER_PIXEL: 8
SAMPLES_AND_LINES: 5665 7614
HORIZONTAL_DATUM: NAD83
HORIZONTAL_COORDINATE_SYSTEM: UTM
COORDINATE_ZONE: 12
HORIZONTAL_UNITS: METERS
HORIZONTAL_RESOLUTION: 1.00000
SECONDARY_HORIZONTAL_DATUM: NAD27
XY_ORIGIN: 416077.55000 5004628.18000
SECONDARY_XY_ORIGIN: 416139.21000 5004418.56000
NATION: US
STATE: MT
NW_QUAD_CORNER_XY: 416532.34000 5004328.68000
NE_QUAD_CORNER_XY: 421442.20000 5004265.98000
SE_QUAD_CORNERY_XY: 421356.27000 4997322.84000
SW_QUAD_CORNER_XY: 416441.04000 4997385.54000
SECONDARY_NW_QUAD_XY: 416529.87000 5004111.34000
SECONDARY_NE_QUAD_XY: 421439.88000 5004048.64000
SECONDARY_SE_QUAD_XY: 421353.95000 4997105.55000
SECONDARY_SW_QUAD_XY: 416438.57000 4997168.25000
RMSE_XY: 5.00000
IMAGE_SOURCE: BLACK AND WHITE FILM
SOURCE_IMAGE_ID: NAPP 9485 258
SOURCE_IMAGE_DATE: 1995 8 20
SOURCE_DEM_DATE: 1997 11 20
AGENCY: WESTERN MAPPING CENTER (WMC)
PRODUCER: NIES MAPPING GROUP
PRODUCTION_SYSTEM: INTERGRAPH- ISPM,ISIR
COMPRESSION: UNDEFINED
STANDARD_VERSION: 1996 12
METADATA_DATE: 1998 2 20
DATA_FILE_SIZE: 43138975
BYTE_COUNT: 5665
