FILENAME: O4511258.SES.1076742.tif
QUADRANGLE_NAME: DALYS
QUADRANT: SE
WEST_LONGITUDE: -112 48 45.00000
EAST_LONGITUDE: -112 45 0.00000
NORTH_LATITUDE: 45 3 45.00000
SOUTH_LATITUDE: 45 0 0.00000
PRODUCTION_DATE: 2000 5 9
RASTER_ORDER: LEFT_RIGHT/TOP_BOTTOM
BAND_ORGANIZATION: SINGLE FILE
BAND_CONTENT: BLACK&WHITE
BAND_CONTENT: UNDEFINED
BAND_CONTENT: UNDEFINED
BITS_PER_PIXEL: 8
SAMPLES_AND_LINES: 5747 7662
HORIZONTAL_DATUM: NAD83
HORIZONTAL_COORDINATE_SYSTEM: UTM
COORDINATE_ZONE: 12
HORIZONTAL_UNITS: METERS
HORIZONTAL_RESOLUTION: 1.00000
SECONDARY_HORIZONTAL_DATUM: NAD27
XY_ORIGIN: 356778.00000 4991792.00000
SECONDARY_XY_ORIGIN: 356841.56200 4991582.04200
NATION: US
NATION: "SCIENCE
STATE: MT
NW_QUAD_CORNER_XY: 357302.68100 4991491.37900
NE_QUAD_CORNER_XY: 362223.27700 4991383.05700
SE_QUAD_CORNERY_XY: 362073.19800 4984440.05900
SW_QUAD_CORNER_XY: 357147.23900 4984548.38200
SECONDARY_NW_QUAD_XY: 357298.46400 4991274.18000
SECONDARY_NE_QUAD_XY: 362219.20500 4991165.85500
SECONDARY_SE_QUAD_XY: 362069.12700 4984222.91300
SECONDARY_SW_QUAD_XY: 357143.02200 4984331.23800
RMSE_XY: 1.60000
IMAGE_SOURCE: BLACK AND WHITE FILM
SOURCE_IMAGE_ID: NAPP 9483 111
SOURCE_IMAGE_DATE: 1995 08 14
SOURCE_IMAGE_ID: NAPP 9483 110
SOURCE_IMAGE_DATE: 1995 08 14
SOURCE_IMAGE_ID: NAPP 9483 112
SOURCE_IMAGE_DATE: 1995 08 14
SOURCE_DEM_DATE: 1950 00 00
AGENCY: WESTERN MAPPING CENTER (WMC)
PRODUCER: UNDEFINED
PRODUCTION_SYSTEM: GIS/MAGIC
COMPRESSION: UNDEFINED
STANDARD_VERSION: 1996 12
METADATA_DATE: 2000 05 25
DATA_FILE_SIZE: 44039261
BYTE_COUNT: 5747
