FILENAME: O4511258.NES.1076740.tif
QUADRANGLE_NAME: DALYS
QUADRANT: NE
WEST_LONGITUDE: -112 48 45.00000
EAST_LONGITUDE: -112 45 0.00000
NORTH_LATITUDE: 45 7 30.00000
SOUTH_LATITUDE: 45 3 45.00000
PRODUCTION_DATE: 2000 5 9
RASTER_ORDER: LEFT_RIGHT/TOP_BOTTOM
BAND_ORGANIZATION: SINGLE FILE
BAND_CONTENT: BLACK&WHITE
BAND_CONTENT: UNDEFINED
BAND_CONTENT: UNDEFINED
BITS_PER_PIXEL: 8
SAMPLES_AND_LINES: 5742 7662
HORIZONTAL_DATUM: NAD83
HORIZONTAL_COORDINATE_SYSTEM: UTM
COORDINATE_ZONE: 12
HORIZONTAL_UNITS: METERS
HORIZONTAL_RESOLUTION: 1.00000
SECONDARY_HORIZONTAL_DATUM: NAD27
XY_ORIGIN: 356933.00000 4998735.00000
SECONDARY_XY_ORIGIN: 356996.60500 4998524.91300
NATION: US
NATION: "SCIENCE
STATE: MT
NW_QUAD_CORNER_XY: 357458.29500 4998434.44500
NE_QUAD_CORNER_XY: 362373.52100 4998326.12300
SE_QUAD_CORNERY_XY: 362223.27700 4991383.05700
SW_QUAD_CORNER_XY: 357302.68100 4991491.37900
SECONDARY_NW_QUAD_XY: 357454.07600 4998217.19200
SECONDARY_NE_QUAD_XY: 362369.44800 4998108.86700
SECONDARY_SE_QUAD_XY: 362219.20500 4991165.85500
SECONDARY_SW_QUAD_XY: 357298.46400 4991274.18000
RMSE_XY: 2.50000
IMAGE_SOURCE: BLACK AND WHITE FILM
SOURCE_IMAGE_ID: NAPP 9483 113
SOURCE_IMAGE_DATE: 1995 08 14
SOURCE_IMAGE_ID: NAPP 9483 112
SOURCE_IMAGE_DATE: 1995 08 14
SOURCE_IMAGE_ID: NAPP 9483 114
SOURCE_IMAGE_DATE: 1995 08 14
SOURCE_DEM_DATE: 1950 00 00
AGENCY: WESTERN MAPPING CENTER (WMC)
PRODUCER: UNDEFINED
PRODUCTION_SYSTEM: GIS/MAGIC
COMPRESSION: UNDEFINED
STANDARD_VERSION: 1996 12
METADATA_DATE: 2000 05 25
DATA_FILE_SIZE: 44000946
BYTE_COUNT: 5742
