FILENAME: O4511259.SES.811563.tif
QUADRANGLE_NAME: GALLAGHER MOUNTAIN
QUADRANT: SE
WEST_LONGITUDE: -112 41 15.00000
EAST_LONGITUDE: -112 37 30.00000
NORTH_LATITUDE: 45 3 45.00000
SOUTH_LATITUDE: 45 0 0.00000
PRODUCTION_DATE: 1998 2 16
RASTER_ORDER: LEFT_RIGHT/TOP_BOTTOM
BAND_ORGANIZATION: SINGLE FILE
BAND_CONTENT: BLACK&WHITE
BAND_CONTENT: UNDEFINED
BAND_CONTENT: UNDEFINED
BITS_PER_PIXEL: 8
SAMPLES_AND_LINES: 5733 7651
HORIZONTAL_DATUM: NAD83
HORIZONTAL_COORDINATE_SYSTEM: UTM
COORDINATE_ZONE: 12
HORIZONTAL_UNITS: METERS
HORIZONTAL_RESOLUTION: 1.00000
SECONDARY_HORIZONTAL_DATUM: NAD27
XY_ORIGIN: 366632.38800 4991578.03800
SECONDARY_XY_ORIGIN: 366695.78000 4991368.31400
NATION: US
STATE: MT
NW_QUAD_CORNER_XY: 367143.87300 4991278.53800
NE_QUAD_CORNER_XY: 372064.47000 4991177.82100
SE_QUAD_CORNERY_XY: 371925.11700 4984234.82400
SW_QUAD_CORNER_XY: 366999.15800 4984335.54100
SECONDARY_NW_QUAD_XY: 367139.94700 4991061.33300
SECONDARY_NE_QUAD_XY: 372060.68800 4990960.61300
SECONDARY_SE_QUAD_XY: 371921.33600 4984017.67100
SECONDARY_SW_QUAD_XY: 366995.23200 4984118.39100
RMSE_XY: 1.80000
IMAGE_SOURCE: BLACK AND WHITE FILM
SOURCE_IMAGE_ID: NAPP 8382 14
SOURCE_IMAGE_DATE: 1995 8 1
SOURCE_DEM_DATE: 1998 2 16
AGENCY: WESTERN MAPPING CENTER (WMC)
PRODUCER: NIES MAPPING GROUP
PRODUCTION_SYSTEM: INTERGRAPH-ISIR
COMPRESSION: UNDEFINED
STANDARD_VERSION: 1996 12
METADATA_DATE: 1998 3 19
DATA_FILE_SIZE: 43868916
BYTE_COUNT: 5733
