FILENAME: O4511259.NES.811561.tif
QUADRANGLE_NAME: GALLAGHER MOUNTAIN
QUADRANT: NE
WEST_LONGITUDE: -112 41 15.00000
EAST_LONGITUDE: -112 37 30.00000
NORTH_LATITUDE: 45 7 30.00000
SOUTH_LATITUDE: 45 3 45.00000
PRODUCTION_DATE: 1998 2 16
RASTER_ORDER: LEFT_RIGHT/TOP_BOTTOM
BAND_ORGANIZATION: SINGLE FILE
BAND_CONTENT: BLACK&WHITE
BAND_CONTENT: UNDEFINED
BAND_CONTENT: UNDEFINED
BITS_PER_PIXEL: 8
SAMPLES_AND_LINES: 5727 7651
HORIZONTAL_DATUM: NAD83
HORIZONTAL_COORDINATE_SYSTEM: UTM
COORDINATE_ZONE: 12
HORIZONTAL_UNITS: METERS
HORIZONTAL_RESOLUTION: 1.00000
SECONDARY_HORIZONTAL_DATUM: NAD27
XY_ORIGIN: 366777.06800 4998521.10500
SECONDARY_XY_ORIGIN: 366840.49500 4998311.22500
NATION: US
STATE: MT
NW_QUAD_CORNER_XY: 367288.74800 4998221.60500
NE_QUAD_CORNER_XY: 372203.97600 4998120.88800
SE_QUAD_CORNERY_XY: 372064.47000 4991177.82100
SW_QUAD_CORNER_XY: 367143.87300 4991278.53800
SECONDARY_NW_QUAD_XY: 367284.82000 4998004.34500
SECONDARY_NE_QUAD_XY: 372200.19300 4997903.62600
SECONDARY_SE_QUAD_XY: 372060.68800 4990960.61300
SECONDARY_SW_QUAD_XY: 367139.94700 4991061.33300
RMSE_XY: 1.90000
IMAGE_SOURCE: BLACK AND WHITE FILM
SOURCE_IMAGE_ID: NAPP 8382 16
SOURCE_IMAGE_DATE: 1995 8 1
SOURCE_DEM_DATE: 1998 2 16
AGENCY: WESTERN MAPPING CENTER (WMC)
PRODUCER: NIES MAPPING GROUP
PRODUCTION_SYSTEM: INTERGRAPH-ISIR
COMPRESSION: UNDEFINED
STANDARD_VERSION: 1996 12
METADATA_DATE: 1998 3 19
DATA_FILE_SIZE: 43823004
BYTE_COUNT: 5727
