FILENAME: O4511261.SWS.789313.tif
QUADRANGLE_NAME: ELK GULCH
QUADRANT: SW
WEST_LONGITUDE: -112 30 0.00000
EAST_LONGITUDE: -112 26 15.00000
NORTH_LATITUDE: 45 3 45.00000
SOUTH_LATITUDE: 45 0 0.00000
PRODUCTION_DATE: 1997 11 18
RASTER_ORDER: LEFT_RIGHT/TOP_BOTTOM
BAND_ORGANIZATION: SINGLE FILE
BAND_CONTENT: BLACK&WHITE
BAND_CONTENT: UNDEFINED
BAND_CONTENT: UNDEFINED
BITS_PER_PIXEL: 8
SAMPLES_AND_LINES: 5716 7640
HORIZONTAL_DATUM: NAD83
HORIZONTAL_COORDINATE_SYSTEM: UTM
COORDINATE_ZONE: 12
HORIZONTAL_UNITS: METERS
HORIZONTAL_RESOLUTION: 1.00000
SECONDARY_HORIZONTAL_DATUM: NAD27
XY_ORIGIN: 381411.05400 4991287.29600
SECONDARY_XY_ORIGIN: 381474.09000 4991077.92900
NATION: US
STATE: MT
NW_QUAD_CORNER_XY: 381905.66300 4990987.79600
NE_QUAD_CORNER_XY: 386826.25900 4990898.48600
SE_QUAD_CORNERY_XY: 386702.99300 4983955.49000
SW_QUAD_CORNER_XY: 381777.03400 4984044.79900
SECONDARY_NW_QUAD_XY: 381902.17200 4990770.58200
SECONDARY_NE_QUAD_XY: 386822.91400 4990681.27000
SECONDARY_SE_QUAD_XY: 386699.64900 4983738.32800
SECONDARY_SW_QUAD_XY: 381773.54500 4983827.64000
RMSE_XY: 1.80000
IMAGE_SOURCE: BLACK AND WHITE FILM
SOURCE_IMAGE_ID: NAPP 9485 235
SOURCE_IMAGE_DATE: 1995 8 20
SOURCE_DEM_DATE: 1997 11 18
AGENCY: WESTERN MAPPING CENTER (WMC)
PRODUCER: NIES MAPPING GROUP
PRODUCTION_SYSTEM: INTERGRAPH- ISPM,ISIR
COMPRESSION: UNDEFINED
STANDARD_VERSION: 1996 12
METADATA_DATE: 1998 2 27
DATA_FILE_SIZE: 43675956
BYTE_COUNT: 5716
