FILENAME: O4511261.SES.789311.tif
QUADRANGLE_NAME: ELK GULCH
QUADRANT: SE
WEST_LONGITUDE: -112 26 15.00000
EAST_LONGITUDE: -112 22 30.00000
NORTH_LATITUDE: 45 3 45.00000
SOUTH_LATITUDE: 45 0 0.00000
PRODUCTION_DATE: 1997 11 18
RASTER_ORDER: LEFT_RIGHT/TOP_BOTTOM
BAND_ORGANIZATION: SINGLE FILE
BAND_CONTENT: BLACK&WHITE
BAND_CONTENT: UNDEFINED
BAND_CONTENT: UNDEFINED
BITS_PER_PIXEL: 8
SAMPLES_AND_LINES: 5710 7637
HORIZONTAL_DATUM: NAD83
HORIZONTAL_COORDINATE_SYSTEM: UTM
COORDINATE_ZONE: 12
HORIZONTAL_UNITS: METERS
HORIZONTAL_RESOLUTION: 1.00000
SECONDARY_HORIZONTAL_DATUM: NAD27
XY_ORIGIN: 386337.38900 4991197.98600
SECONDARY_XY_ORIGIN: 386400.20100 4990988.66100
NATION: US
STATE: MT
NW_QUAD_CORNER_XY: 386826.25900 4990898.48600
NE_QUAD_CORNER_XY: 391746.85600 4990812.97900
SE_QUAD_CORNERY_XY: 391628.95100 4983869.98200
SW_QUAD_CORNER_XY: 386702.99300 4983955.49000
SECONDARY_NW_QUAD_XY: 386822.91400 4990681.27000
SECONDARY_NE_QUAD_XY: 391743.65600 4990595.76000
SECONDARY_SE_QUAD_XY: 391625.75200 4983652.81900
SECONDARY_SW_QUAD_XY: 386699.64900 4983738.32800
RMSE_XY: 2.50000
IMAGE_SOURCE: BLACK AND WHITE FILM
SOURCE_IMAGE_ID: NAPP 8382 244
SOURCE_IMAGE_DATE: 1995 8 1
SOURCE_DEM_DATE: 1997 11 18
AGENCY: WESTERN MAPPING CENTER (WMC)
PRODUCER: NIES MAPPING GROUP
PRODUCTION_SYSTEM: INTERGRAPH- ISPM,ISIR
COMPRESSION: UNDEFINED
STANDARD_VERSION: 1996 12
METADATA_DATE: 1998 2 27
DATA_FILE_SIZE: 43612980
BYTE_COUNT: 5710
