FILENAME: O4511262.SES.789319.tif
QUADRANGLE_NAME: RED CANYON
QUADRANT: SE
WEST_LONGITUDE: -112 18 45.00000
EAST_LONGITUDE: -112 15 0.00000
NORTH_LATITUDE: 45 3 45.00000
SOUTH_LATITUDE: 45 0 0.00000
PRODUCTION_DATE: 1997 11 13
RASTER_ORDER: LEFT_RIGHT/TOP_BOTTOM
BAND_ORGANIZATION: SINGLE FILE
BAND_CONTENT: BLACK&WHITE
BAND_CONTENT: UNDEFINED
BAND_CONTENT: UNDEFINED
BITS_PER_PIXEL: 8
SAMPLES_AND_LINES: 5698 7629
HORIZONTAL_DATUM: NAD83
HORIZONTAL_COORDINATE_SYSTEM: UTM
COORDINATE_ZONE: 12
HORIZONTAL_UNITS: METERS
HORIZONTAL_RESOLUTION: 1.00000
SECONDARY_HORIZONTAL_DATUM: NAD27
XY_ORIGIN: 396190.05900 4991030.77300
SECONDARY_XY_ORIGIN: 396252.40200 4990821.51600
NATION: US
STATE: MT
NW_QUAD_CORNER_XY: 396667.45300 4990731.27300
NE_QUAD_CORNER_XY: 401588.05000 4990653.36900
SE_QUAD_CORNERY_XY: 401480.86700 4983710.37300
SW_QUAD_CORNER_XY: 396554.90900 4983788.27700
SECONDARY_NW_QUAD_XY: 396664.39900 4990514.05200
SECONDARY_NE_QUAD_XY: 401585.14100 4990436.14600
SECONDARY_SE_QUAD_XY: 401477.95900 4983493.20400
SECONDARY_SW_QUAD_XY: 396551.85600 4983571.11100
RMSE_XY: 1.90000
IMAGE_SOURCE: BLACK AND WHITE FILM
SOURCE_IMAGE_ID: NAPP 9484 91
SOURCE_IMAGE_DATE: 1995 8 14
SOURCE_DEM_DATE: 1997 11 13
AGENCY: WESTERN MAPPING CENTER (WMC)
PRODUCER: NIES MAPPING GROUP
PRODUCTION_SYSTEM: INTERGRAPH- ISPM,ISIR
COMPRESSION: UNDEFINED
STANDARD_VERSION: 1996 12
METADATA_DATE: 1998 2 27
DATA_FILE_SIZE: 43475740
BYTE_COUNT: 5698
