FILENAME: O4511264.SES.789348.tif
QUADRANGLE_NAME: HOME PARK RANCH
QUADRANT: SE
WEST_LONGITUDE: -112 3 45.00000
EAST_LONGITUDE: -112 0 0.00000
NORTH_LATITUDE: 45 3 45.00000
SOUTH_LATITUDE: 45 0 0.00000
PRODUCTION_DATE: 1997 11 20
RASTER_ORDER: LEFT_RIGHT/TOP_BOTTOM
BAND_ORGANIZATION: SINGLE FILE
BAND_CONTENT: BLACK&WHITE
BAND_CONTENT: UNDEFINED
BAND_CONTENT: UNDEFINED
BITS_PER_PIXEL: 8
SAMPLES_AND_LINES: 5675 7614
HORIZONTAL_DATUM: NAD83
HORIZONTAL_COORDINATE_SYSTEM: UTM
COORDINATE_ZONE: 12
HORIZONTAL_UNITS: METERS
HORIZONTAL_RESOLUTION: 1.00000
SECONDARY_HORIZONTAL_DATUM: NAD27
XY_ORIGIN: 415895.48900 4990741.96500
SECONDARY_XY_ORIGIN: 415956.91400 4990532.73600
NATION: US
STATE: MT
NW_QUAD_CORNER_XY: 416349.84100 4990442.46500
NE_QUAD_CORNER_XY: 421270.43800 4990379.76500
SE_QUAD_CORNERY_XY: 421184.69700 4983436.76900
SW_QUAD_CORNER_XY: 416258.74000 4983499.46800
SECONDARY_NW_QUAD_XY: 416347.36900 4990225.23500
SECONDARY_NE_QUAD_XY: 421268.11200 4990162.53400
SECONDARY_SE_QUAD_XY: 421182.37100 4983219.59200
SECONDARY_SW_QUAD_XY: 416256.26800 4983282.29400
RMSE_XY: 2.70000
IMAGE_SOURCE: BLACK AND WHITE FILM
SOURCE_IMAGE_ID: NAPP 9485 254
SOURCE_IMAGE_DATE: 1995 8 20
SOURCE_DEM_DATE: 1997 11 20
AGENCY: WESTERN MAPPING CENTER (WMC)
PRODUCER: NIES MAPPING GROUP
PRODUCTION_SYSTEM: INTERGRAPH- ISPM,ISIR
COMPRESSION: UNDEFINED
STANDARD_VERSION: 1996 12
METADATA_DATE: 1998 2 27
DATA_FILE_SIZE: 43215125
BYTE_COUNT: 5675
