FILENAME: O4511264.NES.789344.tif
QUADRANGLE_NAME: HOME PARK RANCH
QUADRANT: NE
WEST_LONGITUDE: -112 3 45.00000
EAST_LONGITUDE: -112 0 0.00000
NORTH_LATITUDE: 45 7 30.00000
SOUTH_LATITUDE: 45 3 45.00000
PRODUCTION_DATE: 1997 11 20
RASTER_ORDER: LEFT_RIGHT/TOP_BOTTOM
BAND_ORGANIZATION: SINGLE FILE
BAND_CONTENT: BLACK&WHITE
BAND_CONTENT: UNDEFINED
BAND_CONTENT: UNDEFINED
BITS_PER_PIXEL: 8
SAMPLES_AND_LINES: 5670 7614
HORIZONTAL_DATUM: NAD83
HORIZONTAL_COORDINATE_SYSTEM: UTM
COORDINATE_ZONE: 12
HORIZONTAL_UNITS: METERS
HORIZONTAL_RESOLUTION: 1.00000
SECONDARY_HORIZONTAL_DATUM: NAD27
XY_ORIGIN: 415986.46800 4997685.03500
SECONDARY_XY_ORIGIN: 416048.01200 4997475.61100
NATION: US
STATE: MT
NW_QUAD_CORNER_XY: 416441.04300 4997385.53500
NE_QUAD_CORNER_XY: 421356.27400 4997322.83600
SE_QUAD_CORNERY_XY: 421270.43800 4990379.76500
SW_QUAD_CORNER_XY: 416349.84100 4990442.46500
SECONDARY_NW_QUAD_XY: 416438.57000 4997168.25100
SECONDARY_NE_QUAD_XY: 421353.94700 4997105.55000
SECONDARY_SE_QUAD_XY: 421268.11200 4990162.53400
SECONDARY_SW_QUAD_XY: 416347.36900 4990225.23500
RMSE_XY: 3.60000
IMAGE_SOURCE: BLACK AND WHITE FILM
SOURCE_IMAGE_ID: NAPP 9485 256
SOURCE_IMAGE_DATE: 1995 8 20
SOURCE_DEM_DATE: 1997 11 20
AGENCY: WESTERN MAPPING CENTER (WMC)
PRODUCER: NIES MAPPING GROUP
PRODUCTION_SYSTEM: INTERGRAPH- ISPM,ISIR
COMPRESSION: UNDEFINED
STANDARD_VERSION: 1996 12
METADATA_DATE: 1998 2 27
DATA_FILE_SIZE: 43177050
BYTE_COUNT: 5670
