FILENAME: O4511101.NWS.998178.tif
QUADRANGLE_NAME: DOHERTY MOUNTAIN
QUADRANT: NW
WEST_LONGITUDE: -112 0 0.00000
EAST_LONGITUDE: -111 56 15.00000
NORTH_LATITUDE: 46 0 0.00000
SOUTH_LATITUDE: 45 56 15.00000
PRODUCTION_DATE: 1999 4 14
RASTER_ORDER: LEFT_RIGHT/TOP_BOTTOM
BAND_ORGANIZATION: SINGLE FILE
BAND_CONTENT: BLACK&WHITE
BAND_CONTENT: UNDEFINED
BAND_CONTENT: UNDEFINED
BITS_PER_PIXEL: 8
SAMPLES_AND_LINES: 5592 7614
HORIZONTAL_DATUM: NAD83
HORIZONTAL_COORDINATE_SYSTEM: UTM
COORDINATE_ZONE: 12
HORIZONTAL_UNITS: METERS
HORIZONTAL_RESOLUTION: 1.00000
SECONDARY_HORIZONTAL_DATUM: NAD27
XY_ORIGIN: 422116.00000 5094835.00000
SECONDARY_XY_ORIGIN: 422177.61400 5094624.38800
NATION: US
STATE: MT
NW_QUAD_CORNER_XY: 422567.81700 5094533.59100
NE_QUAD_CORNER_XY: 427407.31400 5094474.72500
SE_QUAD_CORNERY_XY: 427325.61600 5087530.61500
SW_QUAD_CORNER_XY: 422480.67200 5087589.48500
SECONDARY_NW_QUAD_XY: 422565.48200 5094315.63500
SECONDARY_NE_QUAD_XY: 427405.12400 5094256.76700
SECONDARY_SE_QUAD_XY: 427323.42700 5087312.69900
SECONDARY_SW_QUAD_XY: 422478.33700 5087371.57100
RMSE_XY: 2.60000
IMAGE_SOURCE: BLACK AND WHITE FILM
SOURCE_IMAGE_ID: NAPP 8375 036
SOURCE_IMAGE_DATE: 1995 8 12
SOURCE_DEM_DATE: 1981 0 0
AGENCY: ROCKY MOUNTAIN MAPPING CENTER (RMMC)
PRODUCER: ROCKY MOUNTAIN MAPPING CENTER (RMMC)
PRODUCTION_SYSTEM: DV2.6.3 10/9OV2.4 5/95
COMPRESSION: UNDEFINED
STANDARD_VERSION: 1996 12
METADATA_DATE: 1999 4 14
DATA_FILE_SIZE: 42583080
BYTE_COUNT: 5592
