FILENAME: O4511102.SES.998184.tif
QUADRANGLE_NAME: NEGRO HOLLOW
QUADRANT: SE
WEST_LONGITUDE: -111 48 45.00000
EAST_LONGITUDE: -111 45 0.00000
NORTH_LATITUDE: 45 56 15.00000
SOUTH_LATITUDE: 45 52 30.00000
PRODUCTION_DATE: 1999 4 13
RASTER_ORDER: LEFT_RIGHT/TOP_BOTTOM
BAND_ORGANIZATION: SINGLE FILE
BAND_CONTENT: BLACK&WHITE
BAND_CONTENT: UNDEFINED
BAND_CONTENT: UNDEFINED
BITS_PER_PIXEL: 8
SAMPLES_AND_LINES: 5580 7602
HORIZONTAL_DATUM: NAD83
HORIZONTAL_COORDINATE_SYSTEM: UTM
COORDINATE_ZONE: 12
HORIZONTAL_UNITS: METERS
HORIZONTAL_RESOLUTION: 1.00000
SECONDARY_HORIZONTAL_DATUM: NAD27
XY_ORIGIN: 436580.00000 5087725.00000
SECONDARY_XY_ORIGIN: 436641.00000 5087515.00000
NATION: US
STATE: MT
NW_QUAD_CORNER_XY: 437015.51200 5087424.27000
NE_QUAD_CORNER_XY: 441860.46400 5087376.79600
SE_QUAD_CORNERY_XY: 441795.17700 5080432.75000
SW_QUAD_CORNER_XY: 436944.78500 5080480.22700
SECONDARY_NW_QUAD_XY: 437013.61500 5087206.35100
SECONDARY_NE_QUAD_XY: 441858.71200 5087158.87500
SECONDARY_SE_QUAD_XY: 441793.42600 5080214.87200
SECONDARY_SW_QUAD_XY: 436942.88800 5080262.35100
RMSE_XY: 2.00000
IMAGE_SOURCE: BLACK AND WHITE FILM
SOURCE_IMAGE_ID: NAPP 8371 009
SOURCE_IMAGE_DATE: 1995 6 30
SOURCE_DEM_DATE: 1981 0 0
AGENCY: ROCKY MOUNTAIN MAPPING CENTER (RMMC)
PRODUCER: ROCKY MOUNTAIN MAPPING CENTER (RMMC)
PRODUCTION_SYSTEM: DV2.6.3 10/9OV2.4 5/95
COMPRESSION: UNDEFINED
STANDARD_VERSION: 1996 12
METADATA_DATE: 1999 4 13
DATA_FILE_SIZE: 42424740
BYTE_COUNT: 5580
