FILENAME: O4511106.SWS.998275.tif
QUADRANGLE_NAME: NIXON GULCH
QUADRANT: SW
WEST_LONGITUDE: -111 22 30.00000
EAST_LONGITUDE: -111 18 45.00000
NORTH_LATITUDE: 45 56 15.00000
SOUTH_LATITUDE: 45 52 30.00000
PRODUCTION_DATE: 1999 4 21
RASTER_ORDER: LEFT_RIGHT/TOP_BOTTOM
BAND_ORGANIZATION: SINGLE FILE
BAND_CONTENT: BLACK&WHITE
BAND_CONTENT: UNDEFINED
BAND_CONTENT: UNDEFINED
BITS_PER_PIXEL: 8
SAMPLES_AND_LINES: 5540 7576
HORIZONTAL_DATUM: NAD83
HORIZONTAL_COORDINATE_SYSTEM: UTM
COORDINATE_ZONE: 12
HORIZONTAL_UNITS: METERS
HORIZONTAL_RESOLUTION: 1.00000
SECONDARY_HORIZONTAL_DATUM: NAD27
XY_ORIGIN: 470535.00000 5087473.00000
SECONDARY_XY_ORIGIN: 470595.83800 5087262.75400
NATION: US
STATE: MT
NW_QUAD_CORNER_XY: 470930.21200 5087171.71100
NE_QUAD_CORNER_XY: 475775.17500 5087150.82400
SE_QUAD_CORNERY_XY: 475747.97400 5080206.76200
SW_QUAD_CORNER_XY: 470897.57100 5080227.65200
SECONDARY_NW_QUAD_XY: 470929.33700 5086953.78400
SECONDARY_NE_QUAD_XY: 475774.44600 5086932.89600
SECONDARY_SE_QUAD_XY: 475747.24400 5079988.87800
SECONDARY_SW_QUAD_XY: 470896.69500 5080009.76800
RMSE_XY: 2.60000
IMAGE_SOURCE: BLACK AND WHITE FILM
SOURCE_IMAGE_ID: NAPP 8375 095
SOURCE_IMAGE_DATE: 1995 8 12
SOURCE_DEM_DATE: 1981 0 0
AGENCY: ROCKY MOUNTAIN MAPPING CENTER (RMMC)
PRODUCER: ROCKY MOUNTAIN MAPPING CENTER (RMMC)
PRODUCTION_SYSTEM: DV2.6.3 10/9OV2.4 5/95
COMPRESSION: UNDEFINED
STANDARD_VERSION: 1996 12
METADATA_DATE: 1999 4 21
DATA_FILE_SIZE: 41976580
BYTE_COUNT: 5540
