FILENAME: O4511111.SES.998210.tif
QUADRANGLE_NAME: WILLOW CREEK
QUADRANT: SE
WEST_LONGITUDE: -111 41 15.00000
EAST_LONGITUDE: -111 37 30.00000
NORTH_LATITUDE: 45 48 45.00000
SOUTH_LATITUDE: 45 45 0.00000
PRODUCTION_DATE: 1999 4 19
RASTER_ORDER: LEFT_RIGHT/TOP_BOTTOM
BAND_ORGANIZATION: SINGLE FILE
BAND_CONTENT: BLACK&WHITE
BAND_CONTENT: UNDEFINED
BAND_CONTENT: UNDEFINED
BITS_PER_PIXEL: 8
SAMPLES_AND_LINES: 5580 7594
HORIZONTAL_DATUM: NAD83
HORIZONTAL_COORDINATE_SYSTEM: UTM
COORDINATE_ZONE: 12
HORIZONTAL_UNITS: METERS
HORIZONTAL_RESOLUTION: 1.00000
SECONDARY_HORIZONTAL_DATUM: NAD27
XY_ORIGIN: 446162.00000 5073746.00000
SECONDARY_XY_ORIGIN: 446223.37200 5073535.59500
NATION: US
STATE: MT
NW_QUAD_CORNER_XY: 446585.79100 5073445.09700
NE_QUAD_CORNER_XY: 451441.62300 5073405.21400
SE_QUAD_CORNERY_XY: 451387.33400 5066461.31300
SW_QUAD_CORNER_XY: 446526.07300 5066501.19800
SECONDARY_NW_QUAD_XY: 446584.18600 5073227.26200
SECONDARY_NE_QUAD_XY: 451440.16400 5073187.37800
SECONDARY_SE_QUAD_XY: 451385.87600 5066243.52200
SECONDARY_SW_QUAD_XY: 446524.46900 5066283.40800
RMSE_XY: 2.00000
IMAGE_SOURCE: BLACK AND WHITE FILM
SOURCE_IMAGE_ID: NAPP 8371 137
SOURCE_IMAGE_DATE: 1995 6 30
SOURCE_DEM_DATE: 1981 0 0
AGENCY: ROCKY MOUNTAIN MAPPING CENTER (RMMC)
PRODUCER: ROCKY MOUNTAIN MAPPING CENTER (RMMC)
PRODUCTION_SYSTEM: DV2.6.3 10/9OV2.4 5/95
COMPRESSION: UNDEFINED
STANDARD_VERSION: 1996 12
METADATA_DATE: 1999 4 20
DATA_FILE_SIZE: 42380100
BYTE_COUNT: 5580
