FILENAME: O4511112.SES.998215.tif
QUADRANGLE_NAME: THREE FORKS SE
QUADRANT: SE
WEST_LONGITUDE: -111 33 45.00000
EAST_LONGITUDE: -111 30 0.00000
NORTH_LATITUDE: 45 48 45.00000
SOUTH_LATITUDE: 45 45 0.00000
PRODUCTION_DATE: 1999 4 8
RASTER_ORDER: LEFT_RIGHT/TOP_BOTTOM
BAND_ORGANIZATION: SINGLE FILE
BAND_CONTENT: BLACK&WHITE
BAND_CONTENT: UNDEFINED
BAND_CONTENT: UNDEFINED
BITS_PER_PIXEL: 8
SAMPLES_AND_LINES: 5568 7587
HORIZONTAL_DATUM: NAD83
HORIZONTAL_COORDINATE_SYSTEM: UTM
COORDINATE_ZONE: 12
HORIZONTAL_UNITS: METERS
HORIZONTAL_RESOLUTION: 1.00000
SECONDARY_HORIZONTAL_DATUM: NAD27
XY_ORIGIN: 455885.00000 5073670.00000
SECONDARY_XY_ORIGIN: 455946.19800 5073459.68900
NATION: US
STATE: MT
NW_QUAD_CORNER_XY: 456297.45600 5073369.13000
NE_QUAD_CORNER_XY: 461153.29100 5073336.84400
SE_QUAD_CORNERY_XY: 461109.86100 5066392.93900
SW_QUAD_CORNER_XY: 456248.59700 5066425.22600
SECONDARY_NW_QUAD_XY: 456296.14300 5073151.29200
SECONDARY_NE_QUAD_XY: 461152.12400 5073119.00600
SECONDARY_SE_QUAD_XY: 461108.69400 5066175.14600
SECONDARY_SW_QUAD_XY: 456247.28400 5066207.43400
RMSE_XY: 2.20000
IMAGE_SOURCE: BLACK AND WHITE FILM
SOURCE_IMAGE_ID: NAPP 8371 071
SOURCE_IMAGE_DATE: 1995 6 30
SOURCE_DEM_DATE: 1981 0 0
AGENCY: ROCKY MOUNTAIN MAPPING CENTER (RMMC)
PRODUCER: ROCKY MOUNTAIN MAPPING CENTER (RMMC)
PRODUCTION_SYSTEM: DV2.6.3 10/9OV2.4 5/95
COMPRESSION: UNDEFINED
STANDARD_VERSION: 1996 12
METADATA_DATE: 1999 4 8
DATA_FILE_SIZE: 42249984
BYTE_COUNT: 5568
