FILENAME: O4511114.NES.971374.tif
QUADRANGLE_NAME: MANHATTAN
QUADRANT: NE
WEST_LONGITUDE: -111 18 45.00000
EAST_LONGITUDE: -111 15 0.00000
NORTH_LATITUDE: 45 52 30.00000
SOUTH_LATITUDE: 45 48 45.00000
PRODUCTION_DATE: 1999 2 26
RASTER_ORDER: LEFT_RIGHT/TOP_BOTTOM
BAND_ORGANIZATION: SINGLE FILE
BAND_CONTENT: BLACK&WHITE
BAND_CONTENT: UNDEFINED
BAND_CONTENT: UNDEFINED
BITS_PER_PIXEL: 8
SAMPLES_AND_LINES: 5542 7572
HORIZONTAL_DATUM: NAD83
HORIZONTAL_COORDINATE_SYSTEM: UTM
COORDINATE_ZONE: 12
HORIZONTAL_UNITS: METERS
HORIZONTAL_RESOLUTION: 1.00000
SECONDARY_HORIZONTAL_DATUM: NAD27
XY_ORIGIN: 475358.00000 5080507.00000
SECONDARY_XY_ORIGIN: 475418.80200 5080296.82900
NATION: US
NATION: "SCIENCE
STATE: MT
NW_QUAD_CORNER_XY: 475747.97400 5080206.76200
NE_QUAD_CORNER_XY: 480598.37800 5080189.67100
SE_QUAD_CORNERY_XY: 480576.64000 5073245.68500
SW_QUAD_CORNER_XY: 475720.80200 5073262.77700
SECONDARY_NW_QUAD_XY: 475747.24400 5079988.87800
SECONDARY_NE_QUAD_XY: 480597.79500 5079971.78600
SECONDARY_SE_QUAD_XY: 480576.05700 5073027.84400
SECONDARY_SW_QUAD_XY: 475720.07200 5073044.93700
RMSE_XY: 1.60000
IMAGE_SOURCE: BLACK AND WHITE FILM
SOURCE_IMAGE_ID: NAPP 8376 023
SOURCE_IMAGE_DATE: 1995 08 15
SOURCE_DEM_DATE: 1987 00 00
AGENCY: WESTERN MAPPING CENTER (WMC)
PRODUCER: UNDEFINED
PRODUCTION_SYSTEM: GIS/MAGIC
COMPRESSION: UNDEFINED
STANDARD_VERSION: 1996 12
METADATA_DATE: 1999 03 01
DATA_FILE_SIZE: 41969566
BYTE_COUNT: 5542
