FILENAME: O4511115.NES.971396.tif
QUADRANGLE_NAME: BELGRADE
QUADRANT: NE
WEST_LONGITUDE: -111 11 15.00000
EAST_LONGITUDE: -111 7 30.00000
NORTH_LATITUDE: 45 52 30.00000
SOUTH_LATITUDE: 45 48 45.00000
PRODUCTION_DATE: 1999 2 26
RASTER_ORDER: LEFT_RIGHT/TOP_BOTTOM
BAND_ORGANIZATION: SINGLE FILE
BAND_CONTENT: BLACK&WHITE
BAND_CONTENT: UNDEFINED
BAND_CONTENT: UNDEFINED
BITS_PER_PIXEL: 8
SAMPLES_AND_LINES: 5531 7564
HORIZONTAL_DATUM: NAD83
HORIZONTAL_COORDINATE_SYSTEM: UTM
COORDINATE_ZONE: 12
HORIZONTAL_UNITS: METERS
HORIZONTAL_RESOLUTION: 1.00000
SECONDARY_HORIZONTAL_DATUM: NAD27
XY_ORIGIN: 485070.00000 5080477.00000
SECONDARY_XY_ORIGIN: 485130.65700 5080266.88500
NATION: US
NATION: "SCIENCE
STATE: MT
NW_QUAD_CORNER_XY: 485448.78300 5080176.37800
NE_QUAD_CORNER_XY: 490299.18800 5080166.88300
SE_QUAD_CORNERY_XY: 490288.32000 5073222.89600
SW_QUAD_CORNER_XY: 485432.48000 5073232.39100
SECONDARY_NW_QUAD_XY: 485448.34500 5079958.49300
SECONDARY_NE_QUAD_XY: 490298.89700 5079948.99800
SECONDARY_SE_QUAD_XY: 490288.02800 5073005.05400
SECONDARY_SW_QUAD_XY: 485432.04200 5073014.55000
RMSE_XY: 1.50000
IMAGE_SOURCE: BLACK AND WHITE FILM
SOURCE_IMAGE_ID: NAPP 8376 055
SOURCE_IMAGE_DATE: 1995 08 15
SOURCE_DEM_DATE: 1991 00 00
AGENCY: WESTERN MAPPING CENTER (WMC)
PRODUCER: UNDEFINED
PRODUCTION_SYSTEM: GIS/MAGIC
COMPRESSION: UNDEFINED
STANDARD_VERSION: 1996 12
METADATA_DATE: 1999 03 01
DATA_FILE_SIZE: 41842015
BYTE_COUNT: 5531
