FILENAME: O4511117.NES.998217.tif
QUADRANGLE_NAME: PONY
QUADRANT: NE
WEST_LONGITUDE: -111 56 15.00000
EAST_LONGITUDE: -111 52 30.00000
NORTH_LATITUDE: 45 45 0.00000
SOUTH_LATITUDE: 45 41 15.00000
PRODUCTION_DATE: 1999 4 7
RASTER_ORDER: LEFT_RIGHT/TOP_BOTTOM
BAND_ORGANIZATION: SINGLE FILE
BAND_CONTENT: BLACK&WHITE
BAND_CONTENT: UNDEFINED
BAND_CONTENT: UNDEFINED
BITS_PER_PIXEL: 8
SAMPLES_AND_LINES: 5608 7610
HORIZONTAL_DATUM: NAD83
HORIZONTAL_COORDINATE_SYSTEM: UTM
COORDINATE_ZONE: 12
HORIZONTAL_UNITS: METERS
HORIZONTAL_RESOLUTION: 1.00000
SECONDARY_HORIZONTAL_DATUM: NAD27
XY_ORIGIN: 426635.00000 5067000.00000
SECONDARY_XY_ORIGIN: 426696.00000 5066790.00000
NATION: US
STATE: MT
NW_QUAD_CORNER_XY: 427081.04600 5066698.72900
NE_QUAD_CORNER_XY: 431942.30000 5066643.64700
SE_QUAD_CORNERY_XY: 431866.37600 5059699.83100
SW_QUAD_CORNER_XY: 426999.69800 5059754.91500
SECONDARY_NW_QUAD_XY: 427078.85800 5066480.94500
SECONDARY_NE_QUAD_XY: 431940.25800 5066425.86200
SECONDARY_SE_QUAD_XY: 431864.33400 5059482.09100
SECONDARY_SW_QUAD_XY: 426997.51000 5059537.17800
RMSE_XY: 1.30000
IMAGE_SOURCE: BLACK AND WHITE FILM
SOURCE_IMAGE_ID: NAPP 8375 025
SOURCE_IMAGE_DATE: 1995 8 12
SOURCE_DEM_DATE: 1981 0 0
AGENCY: ROCKY MOUNTAIN MAPPING CENTER (RMMC)
PRODUCER: ROCKY MOUNTAIN MAPPING CENTER (RMMC)
PRODUCTION_SYSTEM: DV2.6.3 10/9OV2.4 5/95
COMPRESSION: UNDEFINED
STANDARD_VERSION: 1996 12
METADATA_DATE: 1999 4 8
DATA_FILE_SIZE: 42682488
BYTE_COUNT: 5608
