FILENAME: O4511118.SES.998263.tif
QUADRANGLE_NAME: HARRISON
QUADRANT: SE
WEST_LONGITUDE: -111 48 45.00000
EAST_LONGITUDE: -111 45 0.00000
NORTH_LATITUDE: 45 41 15.00000
SOUTH_LATITUDE: 45 37 30.00000
PRODUCTION_DATE: 1999 4 7
RASTER_ORDER: LEFT_RIGHT/TOP_BOTTOM
BAND_ORGANIZATION: SINGLE FILE
BAND_CONTENT: BLACK&WHITE
BAND_CONTENT: UNDEFINED
BAND_CONTENT: UNDEFINED
BITS_PER_PIXEL: 8
SAMPLES_AND_LINES: 5604 7602
HORIZONTAL_DATUM: NAD83
HORIZONTAL_COORDINATE_SYSTEM: UTM
COORDINATE_ZONE: 12
HORIZONTAL_UNITS: METERS
HORIZONTAL_RESOLUTION: 1.00000
SECONDARY_HORIZONTAL_DATUM: NAD27
XY_ORIGIN: 436298.00000 5059950.00000
SECONDARY_XY_ORIGIN: 436359.00000 5059740.00000
NATION: US
STATE: MT
NW_QUAD_CORNER_XY: 436733.05500 5059648.54600
NE_QUAD_CORNER_XY: 441599.73700 5059601.06100
SE_QUAD_CORNERY_XY: 441534.73000 5052657.31400
SW_QUAD_CORNER_XY: 436662.63000 5052704.80200
SECONDARY_NW_QUAD_XY: 436731.16000 5059430.80500
SECONDARY_NE_QUAD_XY: 441597.98700 5059383.31800
SECONDARY_SE_QUAD_XY: 441532.98000 5052439.61800
SECONDARY_SW_QUAD_XY: 436660.73500 5052487.10800
RMSE_XY: 2.60000
IMAGE_SOURCE: BLACK AND WHITE FILM
SOURCE_IMAGE_ID: NAPP 8371 017
SOURCE_IMAGE_DATE: 1995 6 30
SOURCE_DEM_DATE: 1981 0 0
AGENCY: ROCKY MOUNTAIN MAPPING CENTER (RMMC)
PRODUCER: ROCKY MOUNTAIN MAPPING CENTER (RMMC)
PRODUCTION_SYSTEM: DV2.6.3 10/9OV2.4 5/95
COMPRESSION: UNDEFINED
STANDARD_VERSION: 1996 12
METADATA_DATE: 1999 4 7
DATA_FILE_SIZE: 42607212
BYTE_COUNT: 5604
