FILENAME: O4511119.SES.998267.tif
QUADRANGLE_NAME: WILLOW CREEK RESERVOIR
QUADRANT: SE
WEST_LONGITUDE: -111 41 15.00000
EAST_LONGITUDE: -111 37 30.00000
NORTH_LATITUDE: 45 41 15.00000
SOUTH_LATITUDE: 45 37 30.00000
PRODUCTION_DATE: 1999 4 7
RASTER_ORDER: LEFT_RIGHT/TOP_BOTTOM
BAND_ORGANIZATION: SINGLE FILE
BAND_CONTENT: BLACK&WHITE
BAND_CONTENT: UNDEFINED
BAND_CONTENT: UNDEFINED
BITS_PER_PIXEL: 8
SAMPLES_AND_LINES: 5592 7594
HORIZONTAL_DATUM: NAD83
HORIZONTAL_COORDINATE_SYSTEM: UTM
COORDINATE_ZONE: 12
HORIZONTAL_UNITS: METERS
HORIZONTAL_RESOLUTION: 1.00000
SECONDARY_HORIZONTAL_DATUM: NAD27
XY_ORIGIN: 446043.00000 5059858.00000
SECONDARY_XY_ORIGIN: 446104.45700 5059647.68200
NATION: US
STATE: MT
NW_QUAD_CORNER_XY: 446466.42000 5059557.37400
NE_QUAD_CORNER_XY: 451333.10500 5059517.48700
SE_QUAD_CORNERY_XY: 451278.93300 5052573.73700
SW_QUAD_CORNER_XY: 446406.83100 5052613.62600
SECONDARY_NW_QUAD_XY: 446464.81600 5059339.63000
SECONDARY_NE_QUAD_XY: 451331.64600 5059299.74200
SECONDARY_SE_QUAD_XY: 451277.47500 5052356.03800
SECONDARY_SW_QUAD_XY: 446405.22700 5052395.92900
RMSE_XY: 2.50000
IMAGE_SOURCE: BLACK AND WHITE FILM
SOURCE_IMAGE_ID: NAPP 8375 080
SOURCE_IMAGE_DATE: 1995 8 12
SOURCE_DEM_DATE: 1981 0 0
AGENCY: ROCKY MOUNTAIN MAPPING CENTER (RMMC)
PRODUCER: ROCKY MOUNTAIN MAPPING CENTER (RMMC)
PRODUCTION_SYSTEM: DV2.6.3 10/9OV2.4 5/95
COMPRESSION: UNDEFINED
STANDARD_VERSION: 1996 12
METADATA_DATE: 1999 4 7
DATA_FILE_SIZE: 42471240
BYTE_COUNT: 5592
