FILENAME: O4511124.SES.971402.tif
QUADRANGLE_NAME: BOZEMAN
QUADRANT: SE
WEST_LONGITUDE: -111 3 45.00000
EAST_LONGITUDE: -111 0 0.00000
NORTH_LATITUDE: 45 41 15.00000
SOUTH_LATITUDE: 45 37 30.00000
PRODUCTION_DATE: 1999 2 26
RASTER_ORDER: LEFT_RIGHT/TOP_BOTTOM
BAND_ORGANIZATION: SINGLE FILE
BAND_CONTENT: BLACK&WHITE
BAND_CONTENT: UNDEFINED
BAND_CONTENT: UNDEFINED
BITS_PER_PIXEL: 8
SAMPLES_AND_LINES: 5536 7556
HORIZONTAL_DATUM: NAD83
HORIZONTAL_COORDINATE_SYSTEM: UTM
COORDINATE_ZONE: 12
HORIZONTAL_UNITS: METERS
HORIZONTAL_RESOLUTION: 1.00000
SECONDARY_HORIZONTAL_DATUM: NAD27
XY_ORIGIN: 494765.00000 5059630.00000
SECONDARY_XY_ORIGIN: 494825.70800 5059419.95300
NATION: US
NATION: "SCIENCE
STATE: MT
NW_QUAD_CORNER_XY: 495133.30800 5059329.45200
NE_QUAD_CORNER_XY: 500000.00000 5059327.55200
SE_QUAD_CORNERY_XY: 500000.00000 5052383.79300
SW_QUAD_CORNER_XY: 495127.89100 5052385.69300
SECONDARY_NW_QUAD_XY: 495133.16300 5059111.70100
SECONDARY_NE_QUAD_XY: 500000.00000 5059109.80100
SECONDARY_SE_QUAD_XY: 500000.00000 5052166.08900
SECONDARY_SW_QUAD_XY: 495127.74600 5052167.98900
RMSE_XY: 1.30000
IMAGE_SOURCE: BLACK AND WHITE FILM
SOURCE_IMAGE_ID: NAPP 8376 091
SOURCE_IMAGE_DATE: 1995 08 15
SOURCE_DEM_DATE: 1987 00 00
AGENCY: WESTERN MAPPING CENTER (WMC)
PRODUCER: UNDEFINED
PRODUCTION_SYSTEM: GIS/MAGIC
COMPRESSION: UNDEFINED
STANDARD_VERSION: 1996 12
METADATA_DATE: 1999 03 01
DATA_FILE_SIZE: 41835552
BYTE_COUNT: 5536
