FILENAME: O4511125.SWS.789965.tif
QUADRANGLE_NAME: POTOSI PEAK
QUADRANT: SW
WEST_LONGITUDE: -112 0 0.00000
EAST_LONGITUDE: -111 56 15.00000
NORTH_LATITUDE: 45 33 45.00000
SOUTH_LATITUDE: 45 30 0.00000
PRODUCTION_DATE: 1997 12 15
RASTER_ORDER: LEFT_RIGHT/TOP_BOTTOM
BAND_ORGANIZATION: SINGLE FILE
BAND_CONTENT: BLACK&WHITE
BAND_CONTENT: UNDEFINED
BAND_CONTENT: UNDEFINED
BITS_PER_PIXEL: 8
SAMPLES_AND_LINES: 5628 7610
HORIZONTAL_DATUM: NAD83
HORIZONTAL_COORDINATE_SYSTEM: UTM
COORDINATE_ZONE: 12
HORIZONTAL_UNITS: METERS
HORIZONTAL_RESOLUTION: 1.00000
SECONDARY_HORIZONTAL_DATUM: NAD27
XY_ORIGIN: 421509.70900 5046225.90100
SECONDARY_XY_ORIGIN: 421571.41800 5046015.69900
NATION: US
STATE: MT
NW_QUAD_CORNER_XY: 421959.75500 5045926.40100
NE_QUAD_CORNER_XY: 426837.26300 5045867.51200
SE_QUAD_CORNERY_XY: 426756.17600 5038923.92100
SW_QUAD_CORNER_XY: 421873.26200 5038982.81200
SECONDARY_NW_QUAD_XY: 421957.42300 5045708.75900
SECONDARY_NE_QUAD_XY: 426835.07600 5045649.86800
SECONDARY_SE_QUAD_XY: 426753.99100 5038706.32600
SECONDARY_SW_QUAD_XY: 421870.93100 5038765.21900
RMSE_XY: 3.50000
IMAGE_SOURCE: BLACK AND WHITE FILM
SOURCE_IMAGE_ID: NAPP 8377 004
SOURCE_IMAGE_DATE: 1995 8 31
SOURCE_DEM_DATE: 1997 12 15
AGENCY: WESTERN MAPPING CENTER (WMC)
PRODUCER: NIES MAPPING GROUP
PRODUCTION_SYSTEM: INTERGRAPH- ISPM,ISIR
COMPRESSION: UNDEFINED
STANDARD_VERSION: 1996 12
METADATA_DATE: 1998 2 5
DATA_FILE_SIZE: 42834708
BYTE_COUNT: 5628
