FILENAME: O4511125.NWS.789963.tif
QUADRANGLE_NAME: POTOSI PEAK
QUADRANT: NW
WEST_LONGITUDE: -112 0 0.00000
EAST_LONGITUDE: -111 56 15.00000
NORTH_LATITUDE: 45 37 30.00000
SOUTH_LATITUDE: 45 33 45.00000
PRODUCTION_DATE: 1997 12 15
RASTER_ORDER: LEFT_RIGHT/TOP_BOTTOM
BAND_ORGANIZATION: SINGLE FILE
BAND_CONTENT: BLACK&WHITE
BAND_CONTENT: UNDEFINED
BAND_CONTENT: UNDEFINED
BITS_PER_PIXEL: 8
SAMPLES_AND_LINES: 5623 7610
HORIZONTAL_DATUM: NAD83
HORIZONTAL_COORDINATE_SYSTEM: UTM
COORDINATE_ZONE: 12
HORIZONTAL_UNITS: METERS
HORIZONTAL_RESOLUTION: 1.00000
SECONDARY_HORIZONTAL_DATUM: NAD27
XY_ORIGIN: 421596.21800 5053169.56300
SECONDARY_XY_ORIGIN: 421657.91000 5052959.28800
NATION: US
STATE: MT
NW_QUAD_CORNER_XY: 422046.34200 5052870.06300
NE_QUAD_CORNER_XY: 426918.43600 5052811.17700
SE_QUAD_CORNERY_XY: 426837.26300 5045867.51200
SW_QUAD_CORNER_XY: 421959.75500 5045926.40100
SECONDARY_NW_QUAD_XY: 422044.00900 5052652.37400
SECONDARY_NE_QUAD_XY: 426916.24900 5052593.48500
SECONDARY_SE_QUAD_XY: 426835.07600 5045649.86800
SECONDARY_SW_QUAD_XY: 421957.42300 5045708.75900
RMSE_XY: 3.00000
IMAGE_SOURCE: BLACK AND WHITE FILM
SOURCE_IMAGE_ID: NAPP 8377 002
SOURCE_IMAGE_DATE: 1995 8 31
SOURCE_DEM_DATE: 1997 12 15
AGENCY: WESTERN MAPPING CENTER (WMC)
PRODUCER: NIES MAPPING GROUP
PRODUCTION_SYSTEM: INTERGRAPH- ISPM,ISIR
COMPRESSION: UNDEFINED
STANDARD_VERSION: 1996 12
METADATA_DATE: 1998 2 5
DATA_FILE_SIZE: 42796653
BYTE_COUNT: 5623
