FILENAME: O4511125.NES.789962.tif
QUADRANGLE_NAME: POTOSI PEAK
QUADRANT: NE
WEST_LONGITUDE: -111 56 15.00000
EAST_LONGITUDE: -111 52 30.00000
NORTH_LATITUDE: 45 37 30.00000
SOUTH_LATITUDE: 45 33 45.00000
PRODUCTION_DATE: 1997 12 15
RASTER_ORDER: LEFT_RIGHT/TOP_BOTTOM
BAND_ORGANIZATION: SINGLE FILE
BAND_CONTENT: BLACK&WHITE
BAND_CONTENT: UNDEFINED
BAND_CONTENT: UNDEFINED
BITS_PER_PIXEL: 8
SAMPLES_AND_LINES: 5617 7606
HORIZONTAL_DATUM: NAD83
HORIZONTAL_COORDINATE_SYSTEM: UTM
COORDINATE_ZONE: 12
HORIZONTAL_UNITS: METERS
HORIZONTAL_RESOLUTION: 1.00000
SECONDARY_HORIZONTAL_DATUM: NAD27
XY_ORIGIN: 426473.90000 5053110.67700
SECONDARY_XY_ORIGIN: 426535.55800 5052900.40100
NATION: US
STATE: MT
NW_QUAD_CORNER_XY: 426918.43600 5052811.17700
NE_QUAD_CORNER_XY: 431790.53300 5052756.09000
SE_QUAD_CORNERY_XY: 431714.77100 5045812.42200
SW_QUAD_CORNER_XY: 426837.26300 5045867.51200
SECONDARY_NW_QUAD_XY: 426916.24900 5052593.48500
SECONDARY_NE_QUAD_XY: 431788.49200 5052538.39700
SECONDARY_SE_QUAD_XY: 431712.73100 5045594.77700
SECONDARY_SW_QUAD_XY: 426835.07600 5045649.86800
RMSE_XY: 1.90000
IMAGE_SOURCE: BLACK AND WHITE FILM
SOURCE_IMAGE_ID: NAPP 8376 175
SOURCE_IMAGE_DATE: 1995 8 15
SOURCE_DEM_DATE: 1997 12 15
AGENCY: WESTERN MAPPING CENTER (WMC)
PRODUCER: NIES MAPPING GROUP
PRODUCTION_SYSTEM: INTERGRAPH- ISPM,ISIR
COMPRESSION: UNDEFINED
STANDARD_VERSION: 1996 12
METADATA_DATE: 1998 2 5
DATA_FILE_SIZE: 42728519
BYTE_COUNT: 5617
