FILENAME: O4511126.NES.979455.tif
QUADRANGLE_NAME: MALTBYS MOUND
QUADRANT: NE
WEST_LONGITUDE: -111 48 45.00000
EAST_LONGITUDE: -111 45 0.00000
NORTH_LATITUDE: 45 37 30.00000
SOUTH_LATITUDE: 45 33 45.00000
PRODUCTION_DATE: 1999 3 22
RASTER_ORDER: LEFT_RIGHT/TOP_BOTTOM
BAND_ORGANIZATION: SINGLE FILE
BAND_CONTENT: BLACK&WHITE
BAND_CONTENT: UNDEFINED
BAND_CONTENT: UNDEFINED
BITS_PER_PIXEL: 8
SAMPLES_AND_LINES: 5609 7601
HORIZONTAL_DATUM: NAD83
HORIZONTAL_COORDINATE_SYSTEM: UTM
COORDINATE_ZONE: 12
HORIZONTAL_UNITS: METERS
HORIZONTAL_RESOLUTION: 1.00000
SECONDARY_HORIZONTAL_DATUM: NAD27
XY_ORIGIN: 436227.00000 5053005.00000
SECONDARY_XY_ORIGIN: 436288.59500 5052794.71200
NATION: US
NATION: "SCIENCE
STATE: MT
NW_QUAD_CORNER_XY: 436662.63000 5052704.80200
NE_QUAD_CORNER_XY: 441534.73000 5052657.31400
SE_QUAD_CORNERY_XY: 441469.79300 5045713.64200
SW_QUAD_CORNER_XY: 436592.28100 5045761.13200
SECONDARY_NW_QUAD_XY: 436660.73500 5052487.10700
SECONDARY_NE_QUAD_XY: 441532.98100 5052439.61800
SECONDARY_SE_QUAD_XY: 441468.04400 5045495.99400
SECONDARY_SW_QUAD_XY: 436590.38700 5045543.48500
RMSE_XY: 1.80000
IMAGE_SOURCE: BLACK AND WHITE FILM
SOURCE_IMAGE_ID: NAPP 8371 019
SOURCE_IMAGE_DATE: 1995 06 30
SOURCE_IMAGE_ID: NAPP 8375 052
SOURCE_IMAGE_DATE: 1995 08 12
SOURCE_IMAGE_ID: NAPP 8375 051
SOURCE_IMAGE_DATE: 1995 08 12
SOURCE_IMAGE_ID: NAPP 8371 020
SOURCE_IMAGE_DATE: 1995 06 30
SOURCE_IMAGE_ID: NAPP 8371 018
SOURCE_IMAGE_DATE: 1995 06 30
SOURCE_DEM_DATE: 1997 01 01
AGENCY: WESTERN MAPPING CENTER (WMC)
PRODUCER: UNDEFINED
PRODUCTION_SYSTEM: GIS/MAGIC
COMPRESSION: UNDEFINED
STANDARD_VERSION: 1996 12
METADATA_DATE: 1999 03 26
DATA_FILE_SIZE: 42639618
BYTE_COUNT: 5609
