FILENAME: O4511127.NWS.979462.tif
QUADRANGLE_NAME: NORRIS
QUADRANT: NW
WEST_LONGITUDE: -111 45 0.00000
EAST_LONGITUDE: -111 41 15.00000
NORTH_LATITUDE: 45 37 30.00000
SOUTH_LATITUDE: 45 33 45.00000
PRODUCTION_DATE: 1999 3 22
RASTER_ORDER: LEFT_RIGHT/TOP_BOTTOM
BAND_ORGANIZATION: SINGLE FILE
BAND_CONTENT: BLACK&WHITE
BAND_CONTENT: UNDEFINED
BAND_CONTENT: UNDEFINED
BITS_PER_PIXEL: 8
SAMPLES_AND_LINES: 5603 7598
HORIZONTAL_DATUM: NAD83
HORIZONTAL_COORDINATE_SYSTEM: UTM
COORDINATE_ZONE: 12
HORIZONTAL_UNITS: METERS
HORIZONTAL_RESOLUTION: 1.00000
SECONDARY_HORIZONTAL_DATUM: NAD27
XY_ORIGIN: 441105.00000 5052958.00000
SECONDARY_XY_ORIGIN: 441166.56700 5052747.70300
NATION: US
NATION: "SCIENCE
STATE: MT
NW_QUAD_CORNER_XY: 441534.73000 5052657.31400
NE_QUAD_CORNER_XY: 446406.83100 5052613.62500
SE_QUAD_CORNERY_XY: 446347.30600 5045669.95200
SW_QUAD_CORNER_XY: 441469.79300 5045713.64200
SECONDARY_NW_QUAD_XY: 441532.98100 5052439.61800
SECONDARY_NE_QUAD_XY: 446405.22700 5052395.92800
SECONDARY_SE_QUAD_XY: 446345.70300 5045452.30300
SECONDARY_SW_QUAD_XY: 441468.04400 5045495.99400
RMSE_XY: 1.50000
IMAGE_SOURCE: BLACK AND WHITE FILM
SOURCE_IMAGE_ID: NAPP 8371 050
SOURCE_IMAGE_DATE: 1995 06 30
SOURCE_IMAGE_ID: NAPP 8371 019
SOURCE_IMAGE_DATE: 1995 06 30
SOURCE_IMAGE_ID: NAPP 8371 049
SOURCE_IMAGE_DATE: 1995 06 30
SOURCE_DEM_DATE: 1988 00 00
AGENCY: WESTERN MAPPING CENTER (WMC)
PRODUCER: UNDEFINED
PRODUCTION_SYSTEM: GIS/MAGIC
COMPRESSION: UNDEFINED
STANDARD_VERSION: 1996 12
METADATA_DATE: 1999 03 26
DATA_FILE_SIZE: 42577197
BYTE_COUNT: 5603
