FILENAME: O4511127.NES.979460.tif
QUADRANGLE_NAME: NORRIS
QUADRANT: NE
WEST_LONGITUDE: -111 41 15.00000
EAST_LONGITUDE: -111 37 30.00000
NORTH_LATITUDE: 45 37 30.00000
SOUTH_LATITUDE: 45 33 45.00000
PRODUCTION_DATE: 1999 3 22
RASTER_ORDER: LEFT_RIGHT/TOP_BOTTOM
BAND_ORGANIZATION: SINGLE FILE
BAND_CONTENT: BLACK&WHITE
BAND_CONTENT: UNDEFINED
BAND_CONTENT: UNDEFINED
BITS_PER_PIXEL: 8
SAMPLES_AND_LINES: 5597 7594
HORIZONTAL_DATUM: NAD83
HORIZONTAL_COORDINATE_SYSTEM: UTM
COORDINATE_ZONE: 12
HORIZONTAL_UNITS: METERS
HORIZONTAL_RESOLUTION: 1.00000
SECONDARY_HORIZONTAL_DATUM: NAD27
XY_ORIGIN: 445983.00000 5052914.00000
SECONDARY_XY_ORIGIN: 446044.48500 5052703.74400
NATION: US
NATION: "SCIENCE
STATE: MT
NW_QUAD_CORNER_XY: 446406.83100 5052613.62500
NE_QUAD_CORNER_XY: 451278.93300 5052573.73600
SE_QUAD_CORNERY_XY: 451224.82000 5045630.06200
SW_QUAD_CORNER_XY: 446347.30600 5045669.95200
SECONDARY_NW_QUAD_XY: 446405.22700 5052395.92800
SECONDARY_NE_QUAD_XY: 451277.47500 5052356.03800
SECONDARY_SE_QUAD_XY: 451223.36200 5045412.41100
SECONDARY_SW_QUAD_XY: 446345.70300 5045452.30300
RMSE_XY: 1.60000
IMAGE_SOURCE: BLACK AND WHITE FILM
SOURCE_IMAGE_ID: NAPP 8371 143
SOURCE_IMAGE_DATE: 1995 06 30
SOURCE_IMAGE_ID: NAPP 8371 144
SOURCE_IMAGE_DATE: 1995 06 30
SOURCE_IMAGE_ID: NAPP 8371 142
SOURCE_IMAGE_DATE: 1995 06 30
SOURCE_DEM_DATE: 1988 00 00
AGENCY: WESTERN MAPPING CENTER (WMC)
PRODUCER: UNDEFINED
PRODUCTION_SYSTEM: GIS/MAGIC
COMPRESSION: UNDEFINED
STANDARD_VERSION: 1996 12
METADATA_DATE: 1999 03 26
DATA_FILE_SIZE: 42509215
BYTE_COUNT: 5597
