FILENAME: O4511129.NWS.980924.tif
QUADRANGLE_NAME: CHERRY CREEK CANYON
QUADRANT: NW
WEST_LONGITUDE: -111 30 0.00000
EAST_LONGITUDE: -111 26 15.00000
NORTH_LATITUDE: 45 37 30.00000
SOUTH_LATITUDE: 45 33 45.00000
PRODUCTION_DATE: 1999 3 23
RASTER_ORDER: LEFT_RIGHT/TOP_BOTTOM
BAND_ORGANIZATION: SINGLE FILE
BAND_CONTENT: BLACK&WHITE
BAND_CONTENT: UNDEFINED
BAND_CONTENT: UNDEFINED
BITS_PER_PIXEL: 8
SAMPLES_AND_LINES: 5581 7583
HORIZONTAL_DATUM: NAD83
HORIZONTAL_COORDINATE_SYSTEM: UTM
COORDINATE_ZONE: 12
HORIZONTAL_UNITS: METERS
HORIZONTAL_RESOLUTION: 1.00000
SECONDARY_HORIZONTAL_DATUM: NAD27
XY_ORIGIN: 460616.00000 5052806.00000
SECONDARY_XY_ORIGIN: 460677.24200 5052595.86600
NATION: US
NATION: "SCIENCE
STATE: MT
NW_QUAD_CORNER_XY: 461023.14100 5052505.35600
NE_QUAD_CORNER_XY: 465895.24600 5052476.86400
SE_QUAD_CORNERY_XY: 465857.36800 5045533.18600
SW_QUAD_CORNER_XY: 460979.85100 5045561.67800
SECONDARY_NW_QUAD_XY: 461021.97500 5052287.65600
SECONDARY_NE_QUAD_XY: 465894.22600 5052259.16300
SECONDARY_SE_QUAD_XY: 465856.34700 5045315.53200
SECONDARY_SW_QUAD_XY: 460978.68500 5045344.02500
RMSE_XY: 1.20000
IMAGE_SOURCE: BLACK AND WHITE FILM
SOURCE_IMAGE_ID: NAPP 8371 111
SOURCE_IMAGE_DATE: 1995 06 30
SOURCE_IMAGE_ID: NAPP 8371 076
SOURCE_IMAGE_DATE: 1995 06 30
SOURCE_IMAGE_ID: NAPP 8371 112
SOURCE_IMAGE_DATE: 1995 06 30
SOURCE_IMAGE_ID: NAPP 8371 110
SOURCE_IMAGE_DATE: 1995 06 30
SOURCE_IMAGE_ID: NAPP 8371 109
SOURCE_IMAGE_DATE: 1995 06 30
SOURCE_DEM_DATE: 1992 00 00
AGENCY: WESTERN MAPPING CENTER (WMC)
PRODUCER: UNDEFINED
PRODUCTION_SYSTEM: GIS/MAGIC
COMPRESSION: UNDEFINED
STANDARD_VERSION: 1996 12
METADATA_DATE: 1999 03 26
DATA_FILE_SIZE: 42326304
BYTE_COUNT: 5581
