FILENAME: O4511132.SWS.971407.tif
QUADRANGLE_NAME: WHEELER MOUNTAIN
QUADRANT: SW
WEST_LONGITUDE: -111 7 30.00000
EAST_LONGITUDE: -111 3 45.00000
NORTH_LATITUDE: 45 33 45.00000
SOUTH_LATITUDE: 45 30 0.00000
PRODUCTION_DATE: 1999 2 26
RASTER_ORDER: LEFT_RIGHT/TOP_BOTTOM
BAND_ORGANIZATION: SINGLE FILE
BAND_CONTENT: BLACK&WHITE
BAND_CONTENT: UNDEFINED
BAND_CONTENT: UNDEFINED
BITS_PER_PIXEL: 8
SAMPLES_AND_LINES: 5553 7560
HORIZONTAL_DATUM: NAD83
HORIZONTAL_COORDINATE_SYSTEM: UTM
COORDINATE_ZONE: 12
HORIZONTAL_UNITS: METERS
HORIZONTAL_RESOLUTION: 1.00000
SECONDARY_HORIZONTAL_DATUM: NAD27
XY_ORIGIN: 489871.00000 5045748.00000
SECONDARY_XY_ORIGIN: 489931.83700 5045538.05400
NATION: US
NATION: "SCIENCE
STATE: MT
NW_QUAD_CORNER_XY: 490244.96100 5045447.70800
NE_QUAD_CORNER_XY: 495122.48000 5045442.01000
SE_QUAD_CORNERY_XY: 495117.07500 5038498.40400
SW_QUAD_CORNER_XY: 490234.15000 5038504.10200
SECONDARY_NW_QUAD_XY: 490244.66900 5045230.05200
SECONDARY_NE_QUAD_XY: 495122.33500 5045224.35300
SECONDARY_SE_QUAD_XY: 495116.92900 5038280.79500
SECONDARY_SW_QUAD_XY: 490233.85900 5038286.49400
RMSE_XY: 1.50000
IMAGE_SOURCE: BLACK AND WHITE FILM
SOURCE_IMAGE_ID: NAPP 8375 196
SOURCE_IMAGE_DATE: 1995 08 12
SOURCE_DEM_DATE: 1997 00 00
AGENCY: WESTERN MAPPING CENTER (WMC)
PRODUCER: UNDEFINED
PRODUCTION_SYSTEM: GIS/MAGIC
COMPRESSION: UNDEFINED
STANDARD_VERSION: 1996 12
METADATA_DATE: 1999 03 01
DATA_FILE_SIZE: 41986233
BYTE_COUNT: 5553
