FILENAME: O4511132.SES.971406.tif
QUADRANGLE_NAME: WHEELER MOUNTAIN
QUADRANT: SE
WEST_LONGITUDE: -111 3 45.00000
EAST_LONGITUDE: -111 0 0.00000
NORTH_LATITUDE: 45 33 45.00000
SOUTH_LATITUDE: 45 30 0.00000
PRODUCTION_DATE: 1999 2 26
RASTER_ORDER: LEFT_RIGHT/TOP_BOTTOM
BAND_ORGANIZATION: SINGLE FILE
BAND_CONTENT: BLACK&WHITE
BAND_CONTENT: UNDEFINED
BAND_CONTENT: UNDEFINED
BITS_PER_PIXEL: 8
SAMPLES_AND_LINES: 5546 7557
HORIZONTAL_DATUM: NAD83
HORIZONTAL_COORDINATE_SYSTEM: UTM
COORDINATE_ZONE: 12
HORIZONTAL_UNITS: METERS
HORIZONTAL_RESOLUTION: 1.00000
SECONDARY_HORIZONTAL_DATUM: NAD27
XY_ORIGIN: 494755.00000 5045743.00000
SECONDARY_XY_ORIGIN: 494815.79000 5045533.04200
NATION: US
NATION: "SCIENCE
STATE: MT
NW_QUAD_CORNER_XY: 495122.48000 5045442.01000
NE_QUAD_CORNER_XY: 500000.00000 5045440.11100
SE_QUAD_CORNERY_XY: 500000.00000 5038496.50400
SW_QUAD_CORNER_XY: 495117.07500 5038498.40400
SECONDARY_NW_QUAD_XY: 495122.33500 5045224.35300
SECONDARY_NE_QUAD_XY: 500000.00000 5045222.45400
SECONDARY_SE_QUAD_XY: 500000.00000 5038278.89600
SECONDARY_SW_QUAD_XY: 495116.92900 5038280.79500
RMSE_XY: 1.20000
IMAGE_SOURCE: BLACK AND WHITE FILM
SOURCE_IMAGE_ID: NAPP 8376 095
SOURCE_IMAGE_DATE: 1995 08 15
SOURCE_DEM_DATE: 1997 00 00
AGENCY: WESTERN MAPPING CENTER (WMC)
PRODUCER: UNDEFINED
PRODUCTION_SYSTEM: GIS/MAGIC
COMPRESSION: UNDEFINED
STANDARD_VERSION: 1996 12
METADATA_DATE: 1999 03 01
DATA_FILE_SIZE: 41916668
BYTE_COUNT: 5546
