FILENAME: O4511133.NWS.792729.tif
QUADRANGLE_NAME: RAMSHORN MOUNTAIN
QUADRANT: NW
WEST_LONGITUDE: -112 0 0.00000
EAST_LONGITUDE: -111 56 15.00000
NORTH_LATITUDE: 45 30 0.00000
SOUTH_LATITUDE: 45 26 15.00000
PRODUCTION_DATE: 1997 11 24
RASTER_ORDER: LEFT_RIGHT/TOP_BOTTOM
BAND_ORGANIZATION: SINGLE FILE
BAND_CONTENT: BLACK&WHITE
BAND_CONTENT: UNDEFINED
BAND_CONTENT: UNDEFINED
BITS_PER_PIXEL: 8
SAMPLES_AND_LINES: 5633 7610
HORIZONTAL_DATUM: NAD83
HORIZONTAL_COORDINATE_SYSTEM: UTM
COORDINATE_ZONE: 12
HORIZONTAL_UNITS: METERS
HORIZONTAL_RESOLUTION: 1.00000
SECONDARY_HORIZONTAL_DATUM: NAD27
XY_ORIGIN: 421423.33000 5039282.31200
SECONDARY_XY_ORIGIN: 421485.05600 5039072.18400
NATION: US
STATE: MT
NW_QUAD_CORNER_XY: 421873.26200 5038982.81200
NE_QUAD_CORNER_XY: 426756.17600 5038923.92100
SE_QUAD_CORNERY_XY: 426675.17800 5031980.40500
SW_QUAD_CORNER_XY: 421786.86300 5032039.29800
SECONDARY_NW_QUAD_XY: 421870.93100 5038765.21900
SECONDARY_NE_QUAD_XY: 426753.99100 5038706.32600
SECONDARY_SE_QUAD_XY: 426672.99300 5031762.85800
SECONDARY_SW_QUAD_XY: 421784.53200 5031821.75300
RMSE_XY: 1.50000
IMAGE_SOURCE: BLACK AND WHITE FILM
SOURCE_IMAGE_ID: NAPP 8376 164
SOURCE_IMAGE_DATE: 1995 8 15
SOURCE_DEM_DATE: 1997 11 24
AGENCY: WESTERN MAPPING CENTER (WMC)
PRODUCER: NIES MAPPING GROUP
PRODUCTION_SYSTEM: INTERGRAPH- ISPM,ISIR
COMPRESSION: UNDEFINED
STANDARD_VERSION: 1996 12
METADATA_DATE: 1998 2 20
DATA_FILE_SIZE: 42872763
BYTE_COUNT: 5633
