FILENAME: O4511135.SES.979468.tif
QUADRANGLE_NAME: ENNIS LAKE
QUADRANT: SE
WEST_LONGITUDE: -111 41 15.00000
EAST_LONGITUDE: -111 37 30.00000
NORTH_LATITUDE: 45 26 15.00000
SOUTH_LATITUDE: 45 22 30.00000
PRODUCTION_DATE: 1999 3 22
RASTER_ORDER: LEFT_RIGHT/TOP_BOTTOM
BAND_ORGANIZATION: SINGLE FILE
BAND_CONTENT: BLACK&WHITE
BAND_CONTENT: UNDEFINED
BAND_CONTENT: UNDEFINED
BITS_PER_PIXEL: 8
SAMPLES_AND_LINES: 5614 7594
HORIZONTAL_DATUM: NAD83
HORIZONTAL_COORDINATE_SYSTEM: UTM
COORDINATE_ZONE: 12
HORIZONTAL_UNITS: METERS
HORIZONTAL_RESOLUTION: 1.00000
SECONDARY_HORIZONTAL_DATUM: NAD27
XY_ORIGIN: 445804.00000 5032083.00000
SECONDARY_XY_ORIGIN: 445865.57400 5031872.92300
NATION: US
NATION: "SCIENCE
STATE: MT
NW_QUAD_CORNER_XY: 446228.44900 5031782.83200
NE_QUAD_CORNER_XY: 451116.76900 5031742.93800
SE_QUAD_CORNERY_XY: 451062.83100 5024799.49000
SW_QUAD_CORNER_XY: 446169.11700 5024839.38400
SECONDARY_NW_QUAD_XY: 446226.84600 5031565.27900
SECONDARY_NE_QUAD_XY: 451115.31200 5031525.38500
SECONDARY_SE_QUAD_XY: 451061.37500 5024581.98600
SECONDARY_SW_QUAD_XY: 446167.51500 5024621.88200
RMSE_XY: 1.30000
IMAGE_SOURCE: BLACK AND WHITE FILM
SOURCE_IMAGE_ID: NAPP 8371 149
SOURCE_IMAGE_DATE: 1995 06 30
SOURCE_IMAGE_ID: NAPP 8371 148
SOURCE_IMAGE_DATE: 1995 06 30
SOURCE_DEM_DATE: 1997 01 01
AGENCY: WESTERN MAPPING CENTER (WMC)
PRODUCER: UNDEFINED
PRODUCTION_SYSTEM: GIS/MAGIC
COMPRESSION: UNDEFINED
STANDARD_VERSION: 1996 12
METADATA_DATE: 1999 03 26
DATA_FILE_SIZE: 42638330
BYTE_COUNT: 5614
