FILENAME: O4511136.NES.979624.tif
QUADRANGLE_NAME: CHERRY LAKE
QUADRANT: NE
WEST_LONGITUDE: -111 33 45.00000
EAST_LONGITUDE: -111 30 0.00000
NORTH_LATITUDE: 45 30 0.00000
SOUTH_LATITUDE: 45 26 15.00000
PRODUCTION_DATE: 1999 3 22
RASTER_ORDER: LEFT_RIGHT/TOP_BOTTOM
BAND_ORGANIZATION: SINGLE FILE
BAND_CONTENT: BLACK&WHITE
BAND_CONTENT: UNDEFINED
BAND_CONTENT: UNDEFINED
BITS_PER_PIXEL: 8
SAMPLES_AND_LINES: 5597 7587
HORIZONTAL_DATUM: NAD83
HORIZONTAL_COORDINATE_SYSTEM: UTM
COORDINATE_ZONE: 12
HORIZONTAL_UNITS: METERS
HORIZONTAL_RESOLUTION: 1.00000
SECONDARY_HORIZONTAL_DATUM: NAD27
XY_ORIGIN: 455641.00000 5038951.00000
SECONDARY_XY_ORIGIN: 455702.39300 5038740.93300
NATION: US
NATION: "SCIENCE
STATE: MT
NW_QUAD_CORNER_XY: 456053.68600 5038650.37000
NE_QUAD_CORNER_XY: 460936.60800 5038618.07600
SE_QUAD_CORNERY_XY: 460893.41100 5031674.55000
SW_QUAD_CORNER_XY: 456005.09000 5031706.84400
SECONDARY_NW_QUAD_XY: 456052.37500 5038432.76600
SECONDARY_NE_QUAD_XY: 460935.44200 5038400.47200
SECONDARY_SE_QUAD_XY: 460892.24600 5031456.99500
SECONDARY_SW_QUAD_XY: 456003.77900 5031489.29000
RMSE_XY: 2.70000
IMAGE_SOURCE: BLACK AND WHITE FILM
SOURCE_IMAGE_ID: NAPP 8374 097
SOURCE_IMAGE_DATE: 1995 08 12
SOURCE_IMAGE_ID: NAPP 8374 096
SOURCE_IMAGE_DATE: 1995 08 12
SOURCE_DEM_DATE: 1982 00 00
AGENCY: WESTERN MAPPING CENTER (WMC)
PRODUCER: UNDEFINED
PRODUCTION_SYSTEM: GIS/MAGIC
COMPRESSION: UNDEFINED
STANDARD_VERSION: 1996 12
METADATA_DATE: 1999 03 26
DATA_FILE_SIZE: 42470036
BYTE_COUNT: 5597
