FILENAME: O4511138.SES.981479.tif
QUADRANGLE_NAME: BEACON POINT
QUADRANT: SE
WEST_LONGITUDE: -111 18 45.00000
EAST_LONGITUDE: -111 15 0.00000
NORTH_LATITUDE: 45 26 15.00000
SOUTH_LATITUDE: 45 22 30.00000
PRODUCTION_DATE: 1999 3 23
RASTER_ORDER: LEFT_RIGHT/TOP_BOTTOM
BAND_ORGANIZATION: SINGLE FILE
BAND_CONTENT: BLACK&WHITE
BAND_CONTENT: UNDEFINED
BAND_CONTENT: UNDEFINED
BITS_PER_PIXEL: 8
SAMPLES_AND_LINES: 5580 7571
HORIZONTAL_DATUM: NAD83
HORIZONTAL_COORDINATE_SYSTEM: UTM
COORDINATE_ZONE: 12
HORIZONTAL_UNITS: METERS
HORIZONTAL_RESOLUTION: 1.00000
SECONDARY_HORIZONTAL_DATUM: NAD27
XY_ORIGIN: 475168.00000 5031901.00000
SECONDARY_XY_ORIGIN: 475229.11200 5031691.13100
NATION: US
NATION: "SCIENCE
STATE: MT
NW_QUAD_CORNER_XY: 475558.37900 5031600.46400
NE_QUAD_CORNER_XY: 480446.70300 5031583.36800
SE_QUAD_CORNERY_XY: 480425.12900 5024639.91500
SW_QUAD_CORNER_XY: 475531.41100 5024657.01200
SECONDARY_NW_QUAD_XY: 475557.65100 5031382.90700
SECONDARY_NE_QUAD_XY: 480446.12000 5031365.81000
SECONDARY_SE_QUAD_XY: 480424.54600 5024422.40700
SECONDARY_SW_QUAD_XY: 475530.68300 5024439.50400
RMSE_XY: 1.70000
IMAGE_SOURCE: BLACK AND WHITE FILM
SOURCE_IMAGE_ID: NAPP 8375 201
SOURCE_IMAGE_DATE: 1995 08 12
SOURCE_IMAGE_ID: NAPP 8374 027
SOURCE_IMAGE_DATE: 1995 08 12
SOURCE_IMAGE_ID: NAPP 8375 202
SOURCE_IMAGE_DATE: 1995 08 12
SOURCE_IMAGE_ID: NAPP 8375 200
SOURCE_IMAGE_DATE: 1995 08 12
SOURCE_IMAGE_ID: NAPP 8375 104
SOURCE_IMAGE_DATE: 1995 08 12
SOURCE_DEM_DATE: 1992 00 00
AGENCY: WESTERN MAPPING CENTER (WMC)
PRODUCER: UNDEFINED
PRODUCTION_SYSTEM: GIS/MAGIC
COMPRESSION: UNDEFINED
STANDARD_VERSION: 1996 12
METADATA_DATE: 1999 03 26
DATA_FILE_SIZE: 42251760
BYTE_COUNT: 5580
