FILENAME: O4511139.SES.981549.tif
QUADRANGLE_NAME: GARNET MOUNTAIN
QUADRANT: SE
WEST_LONGITUDE: -111 11 15.00000
EAST_LONGITUDE: -111 7 30.00000
NORTH_LATITUDE: 45 26 15.00000
SOUTH_LATITUDE: 45 22 30.00000
PRODUCTION_DATE: 1999 3 23
RASTER_ORDER: LEFT_RIGHT/TOP_BOTTOM
BAND_ORGANIZATION: SINGLE FILE
BAND_CONTENT: BLACK&WHITE
BAND_CONTENT: UNDEFINED
BAND_CONTENT: UNDEFINED
BITS_PER_PIXEL: 8
SAMPLES_AND_LINES: 5569 7564
HORIZONTAL_DATUM: NAD83
HORIZONTAL_COORDINATE_SYSTEM: UTM
COORDINATE_ZONE: 12
HORIZONTAL_UNITS: METERS
HORIZONTAL_RESOLUTION: 1.00000
SECONDARY_HORIZONTAL_DATUM: NAD27
XY_ORIGIN: 484956.00000 5031871.00000
SECONDARY_XY_ORIGIN: 485016.98100 5031661.15700
NATION: US
NATION: "SCIENCE
STATE: MT
NW_QUAD_CORNER_XY: 485335.02700 5031570.07000
NE_QUAD_CORNER_XY: 490223.35100 5031560.57200
SE_QUAD_CORNERY_XY: 490212.56400 5024617.11900
SW_QUAD_CORNER_XY: 485318.84600 5024626.61700
SECONDARY_NW_QUAD_XY: 485334.59000 5031352.51200
SECONDARY_NE_QUAD_XY: 490223.06000 5031343.01400
SECONDARY_SE_QUAD_XY: 490212.27300 5024399.61000
SECONDARY_SW_QUAD_XY: 485318.40900 5024409.10900
RMSE_XY: 1.50000
IMAGE_SOURCE: BLACK AND WHITE FILM
SOURCE_IMAGE_ID: NAPP 8375 163
SOURCE_IMAGE_DATE: 1995 08 12
SOURCE_IMAGE_ID: NAPP 8375 162
SOURCE_IMAGE_DATE: 1995 08 12
SOURCE_IMAGE_ID: NAPP 8375 164
SOURCE_IMAGE_DATE: 1995 08 12
SOURCE_DEM_DATE: 1992 00 00
AGENCY: WESTERN MAPPING CENTER (WMC)
PRODUCER: UNDEFINED
PRODUCTION_SYSTEM: GIS/MAGIC
COMPRESSION: UNDEFINED
STANDARD_VERSION: 1996 12
METADATA_DATE: 1999 03 26
DATA_FILE_SIZE: 42129485
BYTE_COUNT: 5569
