FILENAME: O4511140.SES.981607.tif
QUADRANGLE_NAME: MOUNT BLACKMORE
QUADRANT: SE
WEST_LONGITUDE: -111 3 45.00000
EAST_LONGITUDE: -111 0 0.00000
NORTH_LATITUDE: 45 26 15.00000
SOUTH_LATITUDE: 45 22 30.00000
PRODUCTION_DATE: 1999 3 26
RASTER_ORDER: LEFT_RIGHT/TOP_BOTTOM
BAND_ORGANIZATION: SINGLE FILE
BAND_CONTENT: BLACK&WHITE
BAND_CONTENT: UNDEFINED
BAND_CONTENT: UNDEFINED
BITS_PER_PIXEL: 8
SAMPLES_AND_LINES: 5557 7556
HORIZONTAL_DATUM: NAD83
HORIZONTAL_COORDINATE_SYSTEM: UTM
COORDINATE_ZONE: 12
HORIZONTAL_UNITS: METERS
HORIZONTAL_RESOLUTION: 1.00000
SECONDARY_HORIZONTAL_DATUM: NAD27
XY_ORIGIN: 494744.00000 5031855.00000
SECONDARY_XY_ORIGIN: 494804.89000 5031645.11800
NATION: US
NATION: "SCIENCE
STATE: MT
NW_QUAD_CORNER_XY: 495111.67600 5031554.87400
NE_QUAD_CORNER_XY: 500000.00000 5031552.97400
SE_QUAD_CORNERY_XY: 500000.00000 5024609.52000
SW_QUAD_CORNER_XY: 495106.28200 5024611.42000
SECONDARY_NW_QUAD_XY: 495111.53000 5031337.31500
SECONDARY_NE_QUAD_XY: 500000.00000 5031335.41500
SECONDARY_SE_QUAD_XY: 500000.00000 5024392.01100
SECONDARY_SW_QUAD_XY: 495106.13600 5024393.91100
RMSE_XY: 2.90000
IMAGE_SOURCE: BLACK AND WHITE FILM
SOURCE_IMAGE_ID: NAPP 8375 172
SOURCE_IMAGE_DATE: 1995 08 12
SOURCE_IMAGE_ID: NAPP 8375 191
SOURCE_IMAGE_DATE: 1995 08 12
SOURCE_IMAGE_ID: NAPP 8375 192
SOURCE_IMAGE_DATE: 1995 08 12
SOURCE_IMAGE_ID: NAPP 8375 173
SOURCE_IMAGE_DATE: 1995 08 12
SOURCE_IMAGE_ID: NAPP 8375 171
SOURCE_IMAGE_DATE: 1995 08 12
SOURCE_DEM_DATE: 1988 00 00
AGENCY: WESTERN MAPPING CENTER (WMC)
PRODUCER: UNDEFINED
PRODUCTION_SYSTEM: GIS/MAGIC
COMPRESSION: UNDEFINED
STANDARD_VERSION: 1996 12
METADATA_DATE: 1999 03 26
DATA_FILE_SIZE: 41994249
BYTE_COUNT: 5557
