FILENAME: O4511140.NWS.981606.tif
QUADRANGLE_NAME: MOUNT BLACKMORE
QUADRANT: NW
WEST_LONGITUDE: -111 7 30.00000
EAST_LONGITUDE: -111 3 45.00000
NORTH_LATITUDE: 45 30 0.00000
SOUTH_LATITUDE: 45 26 15.00000
PRODUCTION_DATE: 1999 3 26
RASTER_ORDER: LEFT_RIGHT/TOP_BOTTOM
BAND_ORGANIZATION: SINGLE FILE
BAND_CONTENT: BLACK&WHITE
BAND_CONTENT: UNDEFINED
BAND_CONTENT: UNDEFINED
BITS_PER_PIXEL: 8
SAMPLES_AND_LINES: 5558 7560
HORIZONTAL_DATUM: NAD83
HORIZONTAL_COORDINATE_SYSTEM: UTM
COORDINATE_ZONE: 12
HORIZONTAL_UNITS: METERS
HORIZONTAL_RESOLUTION: 1.00000
SECONDARY_HORIZONTAL_DATUM: NAD27
XY_ORIGIN: 489861.00000 5038805.00000
SECONDARY_XY_ORIGIN: 489921.87700 5038595.10300
NATION: US
NATION: "SCIENCE
STATE: MT
NW_QUAD_CORNER_XY: 490234.15000 5038504.10200
NE_QUAD_CORNER_XY: 495117.07500 5038498.40400
SE_QUAD_CORNERY_XY: 495111.67600 5031554.87400
SW_QUAD_CORNER_XY: 490223.35100 5031560.57200
SECONDARY_NW_QUAD_XY: 490233.85900 5038286.49400
SECONDARY_NE_QUAD_XY: 495116.92900 5038280.79500
SECONDARY_SE_QUAD_XY: 495111.53000 5031337.31500
SECONDARY_SW_QUAD_XY: 490223.06000 5031343.01400
RMSE_XY: 3.90000
IMAGE_SOURCE: BLACK AND WHITE FILM
SOURCE_IMAGE_ID: NAPP 8375 171
SOURCE_IMAGE_DATE: 1995 08 12
SOURCE_IMAGE_ID: NAPP 8375 164
SOURCE_IMAGE_DATE: 1995 08 12
SOURCE_IMAGE_ID: NAPP 8375 165
SOURCE_IMAGE_DATE: 1995 08 12
SOURCE_IMAGE_ID: NAPP 8375 193
SOURCE_IMAGE_DATE: 1995 08 12
SOURCE_IMAGE_ID: NAPP 8375 195
SOURCE_IMAGE_DATE: 1995 08 12
SOURCE_DEM_DATE: 1988 00 00
AGENCY: WESTERN MAPPING CENTER (WMC)
PRODUCER: UNDEFINED
PRODUCTION_SYSTEM: GIS/MAGIC
COMPRESSION: UNDEFINED
STANDARD_VERSION: 1996 12
METADATA_DATE: 1999 03 26
DATA_FILE_SIZE: 42024038
BYTE_COUNT: 5558
