FILENAME: O4511142.NES.789261.tif
QUADRANGLE_NAME: EIGHTMILE CREEK
QUADRANT: NE
WEST_LONGITUDE: -111 48 45.00000
EAST_LONGITUDE: -111 45 0.00000
NORTH_LATITUDE: 45 22 30.00000
SOUTH_LATITUDE: 45 18 45.00000
PRODUCTION_DATE: 1997 11 24
RASTER_ORDER: LEFT_RIGHT/TOP_BOTTOM
BAND_ORGANIZATION: SINGLE FILE
BAND_CONTENT: BLACK&WHITE
BAND_CONTENT: UNDEFINED
BAND_CONTENT: UNDEFINED
BITS_PER_PIXEL: 8
SAMPLES_AND_LINES: 5627 7598
HORIZONTAL_DATUM: NAD83
HORIZONTAL_COORDINATE_SYSTEM: UTM
COORDINATE_ZONE: 12
HORIZONTAL_UNITS: METERS
HORIZONTAL_RESOLUTION: 1.00000
SECONDARY_HORIZONTAL_DATUM: NAD27
XY_ORIGIN: 435948.56500 5025230.07400
SECONDARY_XY_ORIGIN: 436010.23700 5025020.04600
NATION: US
STATE: MT
NW_QUAD_CORNER_XY: 436381.69000 5024930.57400
NE_QUAD_CORNER_XY: 441275.40300 5024883.07900
SE_QUAD_CORNERY_XY: 441210.74700 5017939.70800
SW_QUAD_CORNER_XY: 436311.64600 5017987.20300
SECONDARY_NW_QUAD_XY: 436379.79700 5024713.07400
SECONDARY_NE_QUAD_XY: 441273.65600 5024665.57800
SECONDARY_SE_QUAD_XY: 441209.00000 5017722.25800
SECONDARY_SW_QUAD_XY: 436309.75300 5017769.75500
RMSE_XY: 3.10000
IMAGE_SOURCE: BLACK AND WHITE FILM
SOURCE_IMAGE_ID: NAPP 8371 27
SOURCE_IMAGE_DATE: 1995 6 30
SOURCE_DEM_DATE: 1997 11 24
AGENCY: WESTERN MAPPING CENTER (WMC)
PRODUCER: NIES MAPPING GROUP
PRODUCTION_SYSTEM: INTERGRAPH- ISPM,ISIR
COMPRESSION: UNDEFINED
STANDARD_VERSION: 1996 12
METADATA_DATE: 1998 2 20
DATA_FILE_SIZE: 42759573
BYTE_COUNT: 5627
