FILENAME: O4511144.SES.979642.tif
QUADRANGLE_NAME: FAN MOUNTAIN
QUADRANT: SE
WEST_LONGITUDE: -111 33 45.00000
EAST_LONGITUDE: -111 30 0.00000
NORTH_LATITUDE: 45 18 45.00000
SOUTH_LATITUDE: 45 15 0.00000
PRODUCTION_DATE: 1999 3 10
RASTER_ORDER: LEFT_RIGHT/TOP_BOTTOM
BAND_ORGANIZATION: SINGLE FILE
BAND_CONTENT: BLACK&WHITE
BAND_CONTENT: UNDEFINED
BAND_CONTENT: UNDEFINED
BITS_PER_PIXEL: 8
SAMPLES_AND_LINES: 5614 7587
HORIZONTAL_DATUM: NAD83
HORIZONTAL_COORDINATE_SYSTEM: UTM
COORDINATE_ZONE: 12
HORIZONTAL_UNITS: METERS
HORIZONTAL_RESOLUTION: 1.00000
SECONDARY_HORIZONTAL_DATUM: NAD27
XY_ORIGIN: 455495.00000 5018121.00000
SECONDARY_XY_ORIGIN: 455556.50500 5017911.08800
NATION: US
NATION: "SCIENCE
STATE: MT
NW_QUAD_CORNER_XY: 455908.05500 5017820.02100
NE_QUAD_CORNER_XY: 460807.15900 5017787.72500
SE_QUAD_CORNERY_XY: 460764.10300 5010844.42600
SW_QUAD_CORNER_XY: 455859.61700 5010876.72200
SECONDARY_NW_QUAD_XY: 455906.74500 5017602.56700
SECONDARY_NE_QUAD_XY: 460805.99400 5017570.27100
SECONDARY_SE_QUAD_XY: 460762.93900 5010627.02300
SECONDARY_SW_QUAD_XY: 455858.30700 5010659.32100
RMSE_XY: 2.20000
IMAGE_SOURCE: BLACK AND WHITE FILM
SOURCE_IMAGE_ID: NAPP 8374 087
SOURCE_IMAGE_DATE: 1995 08 12
SOURCE_IMAGE_ID: NAPP 8376 108
SOURCE_IMAGE_DATE: 1995 08 15
SOURCE_IMAGE_ID: NAPP 8376 107
SOURCE_IMAGE_DATE: 1995 08 15
SOURCE_IMAGE_ID: NAPP 8376 106
SOURCE_IMAGE_DATE: 1995 08 15
SOURCE_IMAGE_ID: NAPP 8374 104
SOURCE_IMAGE_DATE: 1995 08 12
SOURCE_DEM_DATE: 1992 00 00
AGENCY: WESTERN MAPPING CENTER (WMC)
PRODUCER: UNDEFINED
PRODUCTION_SYSTEM: GIS/MAGIC
COMPRESSION: UNDEFINED
STANDARD_VERSION: 1996 12
METADATA_DATE: 1999 03 26
DATA_FILE_SIZE: 42599032
BYTE_COUNT: 5614
