FILENAME: O4511144.NWS.979638.tif
QUADRANGLE_NAME: FAN MOUNTAIN
QUADRANT: NW
WEST_LONGITUDE: -111 37 30.00000
EAST_LONGITUDE: -111 33 45.00000
NORTH_LATITUDE: 45 22 30.00000
SOUTH_LATITUDE: 45 18 45.00000
PRODUCTION_DATE: 1999 3 10
RASTER_ORDER: LEFT_RIGHT/TOP_BOTTOM
BAND_ORGANIZATION: SINGLE FILE
BAND_CONTENT: BLACK&WHITE
BAND_CONTENT: UNDEFINED
BAND_CONTENT: UNDEFINED
BITS_PER_PIXEL: 8
SAMPLES_AND_LINES: 5614 7590
HORIZONTAL_DATUM: NAD83
HORIZONTAL_COORDINATE_SYSTEM: UTM
COORDINATE_ZONE: 12
HORIZONTAL_UNITS: METERS
HORIZONTAL_RESOLUTION: 1.00000
SECONDARY_HORIZONTAL_DATUM: NAD27
XY_ORIGIN: 450644.00000 5025100.00000
SECONDARY_XY_ORIGIN: 450705.53600 5024890.00700
NATION: US
NATION: "SCIENCE
STATE: MT
NW_QUAD_CORNER_XY: 451062.83100 5024799.49000
NE_QUAD_CORNER_XY: 455956.54600 5024763.39500
SE_QUAD_CORNERY_XY: 455908.05500 5017820.02100
SW_QUAD_CORNER_XY: 451008.95200 5017856.11600
SECONDARY_NW_QUAD_XY: 451061.37500 5024581.98600
SECONDARY_NE_QUAD_XY: 455955.23500 5024545.89000
SECONDARY_SE_QUAD_XY: 455906.74500 5017602.56700
SECONDARY_SW_QUAD_XY: 451007.49600 5017638.66400
RMSE_XY: 1.80000
IMAGE_SOURCE: BLACK AND WHITE FILM
SOURCE_IMAGE_ID: NAPP 8376 105
SOURCE_IMAGE_DATE: 1995 08 15
SOURCE_IMAGE_ID: NAPP 8376 106
SOURCE_IMAGE_DATE: 1995 08 15
SOURCE_IMAGE_ID: NAPP 8376 104
SOURCE_IMAGE_DATE: 1995 08 15
SOURCE_IMAGE_ID: NAPP 8374 100
SOURCE_IMAGE_DATE: 1995 08 12
SOURCE_DEM_DATE: 1992 00 00
AGENCY: WESTERN MAPPING CENTER (WMC)
PRODUCER: UNDEFINED
PRODUCTION_SYSTEM: GIS/MAGIC
COMPRESSION: UNDEFINED
STANDARD_VERSION: 1996 12
METADATA_DATE: 1999 03 26
DATA_FILE_SIZE: 42615874
BYTE_COUNT: 5614
