FILENAME: O4511145.SES.980483.tif
QUADRANGLE_NAME: LONE MOUNTAIN
QUADRANT: SE
WEST_LONGITUDE: -111 26 15.00000
EAST_LONGITUDE: -111 22 30.00000
NORTH_LATITUDE: 45 18 45.00000
SOUTH_LATITUDE: 45 15 0.00000
PRODUCTION_DATE: 1999 3 10
RASTER_ORDER: LEFT_RIGHT/TOP_BOTTOM
BAND_ORGANIZATION: SINGLE FILE
BAND_CONTENT: BLACK&WHITE
BAND_CONTENT: UNDEFINED
BAND_CONTENT: UNDEFINED
BITS_PER_PIXEL: 8
SAMPLES_AND_LINES: 5602 7579
HORIZONTAL_DATUM: NAD83
HORIZONTAL_COORDINATE_SYSTEM: UTM
COORDINATE_ZONE: 12
HORIZONTAL_UNITS: METERS
HORIZONTAL_RESOLUTION: 1.00000
SECONDARY_HORIZONTAL_DATUM: NAD27
XY_ORIGIN: 465305.00000 5018060.00000
SECONDARY_XY_ORIGIN: 465366.36400 5017850.15200
NATION: US
NATION: "SCIENCE
STATE: MT
NW_QUAD_CORNER_XY: 465706.26300 5017759.22900
NE_QUAD_CORNER_XY: 470605.36800 5017734.53200
SE_QUAD_CORNERY_XY: 470573.07600 5010791.23200
SW_QUAD_CORNER_XY: 465668.59000 5010815.92900
SECONDARY_NW_QUAD_XY: 465705.24400 5017541.77400
SECONDARY_NE_QUAD_XY: 470604.49400 5017517.07600
SECONDARY_SE_QUAD_XY: 470572.20300 5010573.82800
SECONDARY_SW_QUAD_XY: 465667.57100 5010598.52600
RMSE_XY: 2.80000
IMAGE_SOURCE: BLACK AND WHITE FILM
SOURCE_IMAGE_ID: NAPP 8374 037
SOURCE_IMAGE_DATE: 1995 08 12
SOURCE_IMAGE_ID: NAPP 8374 087
SOURCE_IMAGE_DATE: 1995 08 12
SOURCE_IMAGE_ID: NAPP 8374 038
SOURCE_IMAGE_DATE: 1995 08 12
SOURCE_IMAGE_ID: NAPP 8374 036
SOURCE_IMAGE_DATE: 1995 08 12
SOURCE_DEM_DATE: 1997 01 01
AGENCY: WESTERN MAPPING CENTER (WMC)
PRODUCER: UNDEFINED
PRODUCTION_SYSTEM: GIS/MAGIC
COMPRESSION: UNDEFINED
STANDARD_VERSION: 1996 12
METADATA_DATE: 1999 03 26
DATA_FILE_SIZE: 42463160
BYTE_COUNT: 5602
