FILENAME: O4511146.SES.981483.tif
QUADRANGLE_NAME: GALLATIN PEAK
QUADRANT: SE
WEST_LONGITUDE: -111 18 45.00000
EAST_LONGITUDE: -111 15 0.00000
NORTH_LATITUDE: 45 18 45.00000
SOUTH_LATITUDE: 45 15 0.00000
PRODUCTION_DATE: 1999 3 11
RASTER_ORDER: LEFT_RIGHT/TOP_BOTTOM
BAND_ORGANIZATION: SINGLE FILE
BAND_CONTENT: BLACK&WHITE
BAND_CONTENT: UNDEFINED
BAND_CONTENT: UNDEFINED
BITS_PER_PIXEL: 8
SAMPLES_AND_LINES: 5591 7571
HORIZONTAL_DATUM: NAD83
HORIZONTAL_COORDINATE_SYSTEM: UTM
COORDINATE_ZONE: 12
HORIZONTAL_UNITS: METERS
HORIZONTAL_RESOLUTION: 1.00000
SECONDARY_HORIZONTAL_DATUM: NAD27
XY_ORIGIN: 475114.00000 5018014.00000
SECONDARY_XY_ORIGIN: 475175.20800 5017804.23000
NATION: US
NATION: "SCIENCE
STATE: MT
NW_QUAD_CORNER_XY: 475504.47300 5017713.63500
NE_QUAD_CORNER_XY: 480403.57800 5017696.53800
SE_QUAD_CORNERY_XY: 480382.05000 5010753.23700
SW_QUAD_CORNER_XY: 475477.56300 5010770.33500
SECONDARY_NW_QUAD_XY: 475503.74500 5017496.17900
SECONDARY_NE_QUAD_XY: 480402.99500 5017479.08100
SECONDARY_SE_QUAD_XY: 480381.46800 5010535.83200
SECONDARY_SW_QUAD_XY: 475476.83500 5010552.93000
RMSE_XY: 1.80000
IMAGE_SOURCE: BLACK AND WHITE FILM
SOURCE_IMAGE_ID: NAPP 8375 205
SOURCE_IMAGE_DATE: 1995 08 12
SOURCE_IMAGE_ID: NAPP 8375 204
SOURCE_IMAGE_DATE: 1995 08 12
SOURCE_DEM_DATE: 1997 01 01
AGENCY: WESTERN MAPPING CENTER (WMC)
PRODUCER: UNDEFINED
PRODUCTION_SYSTEM: GIS/MAGIC
COMPRESSION: UNDEFINED
STANDARD_VERSION: 1996 12
METADATA_DATE: 1999 03 26
DATA_FILE_SIZE: 42335052
BYTE_COUNT: 5591
