FILENAME: O4511147.SES.981553.tif
QUADRANGLE_NAME: HIDDEN LAKE
QUADRANT: SE
WEST_LONGITUDE: -111 11 15.00000
EAST_LONGITUDE: -111 7 30.00000
NORTH_LATITUDE: 45 18 45.00000
SOUTH_LATITUDE: 45 15 0.00000
PRODUCTION_DATE: 1999 3 11
RASTER_ORDER: LEFT_RIGHT/TOP_BOTTOM
BAND_ORGANIZATION: SINGLE FILE
BAND_CONTENT: BLACK&WHITE
BAND_CONTENT: UNDEFINED
BAND_CONTENT: UNDEFINED
BITS_PER_PIXEL: 8
SAMPLES_AND_LINES: 5580 7564
HORIZONTAL_DATUM: NAD83
HORIZONTAL_COORDINATE_SYSTEM: UTM
COORDINATE_ZONE: 12
HORIZONTAL_UNITS: METERS
HORIZONTAL_RESOLUTION: 1.00000
SECONDARY_HORIZONTAL_DATUM: NAD27
XY_ORIGIN: 484923.00000 5017984.00000
SECONDARY_XY_ORIGIN: 484984.09000 5017774.24200
NATION: US
NATION: "SCIENCE
STATE: MT
NW_QUAD_CORNER_XY: 485302.68300 5017683.24000
NE_QUAD_CORNER_XY: 490201.78900 5017673.74200
SE_QUAD_CORNERY_XY: 490191.02500 5010730.44000
SW_QUAD_CORNER_XY: 485286.53800 5010739.93900
SECONDARY_NW_QUAD_XY: 485302.24600 5017465.78200
SECONDARY_NE_QUAD_XY: 490201.49700 5017456.28400
SECONDARY_SE_QUAD_XY: 490190.73400 5010513.03400
SECONDARY_SW_QUAD_XY: 485286.10100 5010522.53300
RMSE_XY: 0.90000
IMAGE_SOURCE: BLACK AND WHITE FILM
SOURCE_IMAGE_ID: NAPP 8375 159
SOURCE_IMAGE_DATE: 1995 08 12
SOURCE_IMAGE_ID: NAPP 8375 108
SOURCE_IMAGE_DATE: 1995 08 12
SOURCE_IMAGE_ID: NAPP 8375 158
SOURCE_IMAGE_DATE: 1995 08 12
SOURCE_IMAGE_ID: NAPP 8375 160
SOURCE_IMAGE_DATE: 1995 08 12
SOURCE_DEM_DATE: 1997 01 01
AGENCY: WESTERN MAPPING CENTER (WMC)
PRODUCER: UNDEFINED
PRODUCTION_SYSTEM: GIS/MAGIC
COMPRESSION: UNDEFINED
STANDARD_VERSION: 1996 12
METADATA_DATE: 1999 03 26
DATA_FILE_SIZE: 42212700
BYTE_COUNT: 5580
