FILENAME: O4511149.NWS.789270.tif
QUADRANGLE_NAME: CIRQUE LAKE
QUADRANT: NW
WEST_LONGITUDE: -112 0 0.00000
EAST_LONGITUDE: -111 56 15.00000
NORTH_LATITUDE: 45 15 0.00000
SOUTH_LATITUDE: 45 11 15.00000
PRODUCTION_DATE: 1997 12 12
RASTER_ORDER: LEFT_RIGHT/TOP_BOTTOM
BAND_ORGANIZATION: SINGLE FILE
BAND_CONTENT: BLACK&WHITE
BAND_CONTENT: UNDEFINED
BAND_CONTENT: UNDEFINED
BITS_PER_PIXEL: 8
SAMPLES_AND_LINES: 5653 7608
HORIZONTAL_DATUM: NAD83
HORIZONTAL_COORDINATE_SYSTEM: UTM
COORDINATE_ZONE: 12
HORIZONTAL_UNITS: METERS
HORIZONTAL_RESOLUTION: 1.00000
SECONDARY_HORIZONTAL_DATUM: NAD27
XY_ORIGIN: 421079.89300 5011507.69900
SECONDARY_XY_ORIGIN: 421141.54200 5011297.87800
NATION: US
STATE: MT
NW_QUAD_CORNER_XY: 421528.22800 5011209.19900
NE_QUAD_CORNER_XY: 426432.71000 5011150.30100
SE_QUAD_CORNERY_XY: 426352.06400 5004207.08200
SW_QUAD_CORNER_XY: 421442.20400 5004265.98000
SECONDARY_NW_QUAD_XY: 421525.89900 5010991.80700
SECONDARY_NE_QUAD_XY: 426430.52700 5010932.90800
SECONDARY_SE_QUAD_XY: 426349.88100 5003989.74100
SECONDARY_SW_QUAD_XY: 421439.87600 5004048.64100
RMSE_XY: 3.50000
IMAGE_SOURCE: BLACK AND WHITE FILM
SOURCE_IMAGE_ID: NAPP 8376 156
SOURCE_IMAGE_DATE: 1995 8 15
SOURCE_IMAGE_ID: NAPP 8376 8376
SOURCE_IMAGE_DATE: 1995 8 15
SOURCE_IMAGE_ID: NAPP 8376 187
SOURCE_IMAGE_DATE: 1995 8 15
SOURCE_DEM_DATE: 1997 12 12
AGENCY: WESTERN MAPPING CENTER (WMC)
PRODUCER: NIES MAPPING GROUP
PRODUCTION_SYSTEM: INTERGRAPH- ISPM,ISIR
COMPRESSION: UNDEFINED
STANDARD_VERSION: 1996 12
METADATA_DATE: 1998 2 20
DATA_FILE_SIZE: 43013677
BYTE_COUNT: 5653
