FILENAME: O4511151.NWS.971446.tif
QUADRANGLE_NAME: CAMERON
QUADRANT: NW
WEST_LONGITUDE: -111 45 0.00000
EAST_LONGITUDE: -111 41 15.00000
NORTH_LATITUDE: 45 15 0.00000
SOUTH_LATITUDE: 45 11 15.00000
PRODUCTION_DATE: 1999 2 26
RASTER_ORDER: LEFT_RIGHT/TOP_BOTTOM
BAND_ORGANIZATION: SINGLE FILE
BAND_CONTENT: BLACK&WHITE
BAND_CONTENT: UNDEFINED
BAND_CONTENT: UNDEFINED
BITS_PER_PIXEL: 8
SAMPLES_AND_LINES: 5635 7598
HORIZONTAL_DATUM: NAD83
HORIZONTAL_COORDINATE_SYSTEM: UTM
COORDINATE_ZONE: 12
HORIZONTAL_UNITS: METERS
HORIZONTAL_RESOLUTION: 1.00000
SECONDARY_HORIZONTAL_DATUM: NAD27
XY_ORIGIN: 440717.00000 5011297.00000
SECONDARY_XY_ORIGIN: 440778.72900 5011087.06800
NATION: US
NATION: "SCIENCE
STATE: MT
NW_QUAD_CORNER_XY: 441146.16200 5010996.41100
NE_QUAD_CORNER_XY: 446050.64600 5010952.71500
SE_QUAD_CORNERY_XY: 445991.50800 5004009.49300
SW_QUAD_CORNER_XY: 441081.64600 5004053.19000
SECONDARY_NW_QUAD_XY: 441144.41500 5010779.01300
SECONDARY_NE_QUAD_XY: 446049.04500 5010735.31500
SECONDARY_SE_QUAD_XY: 445989.90700 5003792.14600
SECONDARY_SW_QUAD_XY: 441079.90000 5003835.84400
RMSE_XY: 1.40000
IMAGE_SOURCE: BLACK AND WHITE FILM
SOURCE_IMAGE_ID: NAPP 8371 038
SOURCE_IMAGE_DATE: 1995 06 30
SOURCE_DEM_DATE: 1988 00 00
AGENCY: WESTERN MAPPING CENTER (WMC)
PRODUCER: UNDEFINED
PRODUCTION_SYSTEM: GIS/MAGIC
COMPRESSION: UNDEFINED
STANDARD_VERSION: 1996 12
METADATA_DATE: 1999 03 01
DATA_FILE_SIZE: 42820365
BYTE_COUNT: 5635
