FILENAME: O4511152.SWS.979673.tif
QUADRANGLE_NAME: LAKE CAMERON
QUADRANT: SW
WEST_LONGITUDE: -111 37 30.00000
EAST_LONGITUDE: -111 33 45.00000
NORTH_LATITUDE: 45 11 15.00000
SOUTH_LATITUDE: 45 7 30.00000
PRODUCTION_DATE: 1999 3 10
RASTER_ORDER: LEFT_RIGHT/TOP_BOTTOM
BAND_ORGANIZATION: SINGLE FILE
BAND_CONTENT: BLACK&WHITE
BAND_CONTENT: UNDEFINED
BAND_CONTENT: UNDEFINED
BITS_PER_PIXEL: 8
SAMPLES_AND_LINES: 5630 7590
HORIZONTAL_DATUM: NAD83
HORIZONTAL_COORDINATE_SYSTEM: UTM
COORDINATE_ZONE: 12
HORIZONTAL_UNITS: METERS
HORIZONTAL_RESOLUTION: 1.00000
SECONDARY_HORIZONTAL_DATUM: NAD27
XY_ORIGIN: 450483.00000 5004270.00000
SECONDARY_XY_ORIGIN: 450544.63800 5004060.21400
NATION: US
NATION: "SCIENCE
STATE: MT
NW_QUAD_CORNER_XY: 450901.37000 5003969.59600
NE_QUAD_CORNER_XY: 455811.23200 5003933.50000
SE_QUAD_CORNERY_XY: 455762.90000 4996990.35200
SW_QUAD_CORNER_XY: 450847.66700 4997026.44900
SECONDARY_NW_QUAD_XY: 450899.91500 5003752.24800
SECONDARY_NE_QUAD_XY: 455809.92300 5003716.15000
SECONDARY_SE_QUAD_XY: 455761.59100 4996773.05600
SECONDARY_SW_QUAD_XY: 450846.21200 4996809.15500
RMSE_XY: 0.80000
IMAGE_SOURCE: BLACK AND WHITE FILM
SOURCE_IMAGE_ID: NAPP 8376 111
SOURCE_IMAGE_DATE: 1995 08 15
SOURCE_DEM_DATE: 1992 00 00
AGENCY: WESTERN MAPPING CENTER (WMC)
PRODUCER: UNDEFINED
PRODUCTION_SYSTEM: GIS/MAGIC
COMPRESSION: UNDEFINED
STANDARD_VERSION: 1996 12
METADATA_DATE: 1999 03 26
DATA_FILE_SIZE: 42737330
BYTE_COUNT: 5630
