FILENAME: O4511153.SES.980496.tif
QUADRANGLE_NAME: SPHINX MOUNTAIN
QUADRANT: SE
WEST_LONGITUDE: -111 26 15.00000
EAST_LONGITUDE: -111 22 30.00000
NORTH_LATITUDE: 45 11 15.00000
SOUTH_LATITUDE: 45 7 30.00000
PRODUCTION_DATE: 1999 3 10
RASTER_ORDER: LEFT_RIGHT/TOP_BOTTOM
BAND_ORGANIZATION: SINGLE FILE
BAND_CONTENT: BLACK&WHITE
BAND_CONTENT: UNDEFINED
BAND_CONTENT: UNDEFINED
BITS_PER_PIXEL: 8
SAMPLES_AND_LINES: 5613 7578
HORIZONTAL_DATUM: NAD83
HORIZONTAL_COORDINATE_SYSTEM: UTM
COORDINATE_ZONE: 12
HORIZONTAL_UNITS: METERS
HORIZONTAL_RESOLUTION: 1.00000
SECONDARY_HORIZONTAL_DATUM: NAD27
XY_ORIGIN: 465229.00000 5004173.00000
SECONDARY_XY_ORIGIN: 465290.44500 5003963.28300
NATION: US
NATION: "SCIENCE
STATE: MT
NW_QUAD_CORNER_XY: 465630.95700 5003872.70600
NE_QUAD_CORNER_XY: 470540.82000 5003848.00800
SE_QUAD_CORNERY_XY: 470508.59900 4996904.86000
SW_QUAD_CORNER_XY: 465593.36600 4996929.55800
SECONDARY_NW_QUAD_XY: 465629.93900 5003655.35500
SECONDARY_NE_QUAD_XY: 470539.94700 5003630.65700
SECONDARY_SE_QUAD_XY: 470507.72600 4996687.56200
SECONDARY_SW_QUAD_XY: 465592.34800 4996712.26000
RMSE_XY: 1.80000
IMAGE_SOURCE: BLACK AND WHITE FILM
SOURCE_IMAGE_ID: NAPP 8374 041
SOURCE_IMAGE_DATE: 1995 08 12
SOURCE_IMAGE_ID: NAPP 8374 042
SOURCE_IMAGE_DATE: 1995 08 12
SOURCE_DEM_DATE: 1997 01 01
AGENCY: WESTERN MAPPING CENTER (WMC)
PRODUCER: UNDEFINED
PRODUCTION_SYSTEM: GIS/MAGIC
COMPRESSION: UNDEFINED
STANDARD_VERSION: 1996 12
METADATA_DATE: 1999 03 26
DATA_FILE_SIZE: 42540927
BYTE_COUNT: 5613
